BEGIN:VCALENDAR
VERSION:2.0
PRODID:-//achurchnearyou.com//eventfeed//EN
CALSCALE:GREGORIAN
METHOD:PUBLISH
X-WR-TIMEZONE:UTC
BEGIN:VEVENT
SUMMARY:Craft Fair
DTSTART:20250913T100000Z
DTEND:20250913T130000Z
DTSTAMP:20260422T004847Z
UID:11497492025-09-13 10:00:00+00:00achurchnearyou
CATEGORIES:
DESCRIPTION:one of our regular craft fairs where local craftspeople sell t
 heir wares.
LOCATION:St Christopher
URL:https://www.facebook.com/Parish-of-Luton-St-Anne-with-St-Christopher-2
 110304885872967
END:VEVENT
END:VCALENDAR
