BEGIN:VCALENDAR
VERSION:2.0
PRODID:-//achurchnearyou.com//eventfeed//EN
CALSCALE:GREGORIAN
METHOD:PUBLISH
X-WR-TIMEZONE:UTC
BEGIN:VEVENT
SUMMARY:Tea @ 2
DTSTART:20250927T130000Z
DTEND:20250927T150000Z
DTSTAMP:20260422T005734Z
UID:11497652025-09-27 13:00:00+00:00achurchnearyou
CATEGORIES:
DESCRIPTION:An enjoyable traditional afternoon tea.
LOCATION:St Anne
URL:https://www.facebook.com/Parish-of-Luton-St-Anne-with-St-Christopher-2
 110304885872967
END:VEVENT
END:VCALENDAR
