BEGIN:VCALENDAR
VERSION:2.0
PRODID:-//achurchnearyou.com//eventfeed//EN
CALSCALE:GREGORIAN
METHOD:PUBLISH
X-WR-TIMEZONE:UTC
BEGIN:VEVENT
SUMMARY:Ash Wednesday Service and Communion
DTSTART:20260218T190000Z
DTEND:20260218T200000Z
DTSTAMP:20260422T104223Z
UID:12945162026-02-18 19:00:00+00:00achurchnearyou
CATEGORIES:
DESCRIPTION:Imposition of ashes followed by Holy Communion
GEO:-0.444659;51.945573
LOCATION:St Margaret’s
URL:https://www.achurchnearyou.com/church/7752/service-and-events/events/1
 294516/
END:VEVENT
END:VCALENDAR
