BEGIN:VCALENDAR
VERSION:2.0
PRODID:-//achurchnearyou.com//eventfeed//EN
CALSCALE:GREGORIAN
METHOD:PUBLISH
X-WR-TIMEZONE:UTC
BEGIN:VEVENT
SUMMARY:The Hub / On hold
DTSTART;TZID=Europe/London:20260423T174500
DTEND;TZID=Europe/London:20260423T191500
DTSTAMP:20260420T023825Z
UID:5116542026-04-23 17:45:00+01:00achurchnearyou
CATEGORIES:
DESCRIPTION:Have fun or just chill in a safe environment...\n\nFor ages 8+
 \n\nAdmission: £1
LOCATION:St Margarets Centre
URL:https://www.achurchnearyou.com/church/7752/service-and-events/events/5
 11654/
END:VEVENT
BEGIN:VEVENT
SUMMARY:The Hub / On hold
DTSTART;TZID=Europe/London:20260430T174500
DTEND;TZID=Europe/London:20260430T191500
DTSTAMP:20260420T023825Z
UID:5116542026-04-30 17:45:00+01:00achurchnearyou
CATEGORIES:
DESCRIPTION:Have fun or just chill in a safe environment...\n\nFor ages 8+
 \n\nAdmission: £1
LOCATION:St Margarets Centre
URL:https://www.achurchnearyou.com/church/7752/service-and-events/events/5
 11654/
END:VEVENT
BEGIN:VEVENT
SUMMARY:The Hub / On hold
DTSTART;TZID=Europe/London:20260507T174500
DTEND;TZID=Europe/London:20260507T191500
DTSTAMP:20260420T023825Z
UID:5116542026-05-07 17:45:00+01:00achurchnearyou
CATEGORIES:
DESCRIPTION:Have fun or just chill in a safe environment...\n\nFor ages 8+
 \n\nAdmission: £1
LOCATION:St Margarets Centre
URL:https://www.achurchnearyou.com/church/7752/service-and-events/events/5
 11654/
END:VEVENT
BEGIN:VEVENT
SUMMARY:The Hub / On hold
DTSTART;TZID=Europe/London:20260514T174500
DTEND;TZID=Europe/London:20260514T191500
DTSTAMP:20260420T023825Z
UID:5116542026-05-14 17:45:00+01:00achurchnearyou
CATEGORIES:
DESCRIPTION:Have fun or just chill in a safe environment...\n\nFor ages 8+
 \n\nAdmission: £1
LOCATION:St Margarets Centre
URL:https://www.achurchnearyou.com/church/7752/service-and-events/events/5
 11654/
END:VEVENT
BEGIN:VEVENT
SUMMARY:The Hub / On hold
DTSTART;TZID=Europe/London:20260521T174500
DTEND;TZID=Europe/London:20260521T191500
DTSTAMP:20260420T023825Z
UID:5116542026-05-21 17:45:00+01:00achurchnearyou
CATEGORIES:
DESCRIPTION:Have fun or just chill in a safe environment...\n\nFor ages 8+
 \n\nAdmission: £1
LOCATION:St Margarets Centre
URL:https://www.achurchnearyou.com/church/7752/service-and-events/events/5
 11654/
END:VEVENT
BEGIN:VEVENT
SUMMARY:The Hub / On hold
DTSTART;TZID=Europe/London:20260528T174500
DTEND;TZID=Europe/London:20260528T191500
DTSTAMP:20260420T023825Z
UID:5116542026-05-28 17:45:00+01:00achurchnearyou
CATEGORIES:
DESCRIPTION:Have fun or just chill in a safe environment...\n\nFor ages 8+
 \n\nAdmission: £1
LOCATION:St Margarets Centre
URL:https://www.achurchnearyou.com/church/7752/service-and-events/events/5
 11654/
END:VEVENT
BEGIN:VEVENT
SUMMARY:The Hub / On hold
DTSTART;TZID=Europe/London:20260604T174500
DTEND;TZID=Europe/London:20260604T191500
DTSTAMP:20260420T023825Z
UID:5116542026-06-04 17:45:00+01:00achurchnearyou
CATEGORIES:
DESCRIPTION:Have fun or just chill in a safe environment...\n\nFor ages 8+
 \n\nAdmission: £1
LOCATION:St Margarets Centre
URL:https://www.achurchnearyou.com/church/7752/service-and-events/events/5
 11654/
END:VEVENT
BEGIN:VEVENT
SUMMARY:The Hub / On hold
DTSTART;TZID=Europe/London:20260611T174500
DTEND;TZID=Europe/London:20260611T191500
DTSTAMP:20260420T023825Z
UID:5116542026-06-11 17:45:00+01:00achurchnearyou
CATEGORIES:
DESCRIPTION:Have fun or just chill in a safe environment...\n\nFor ages 8+
 \n\nAdmission: £1
LOCATION:St Margarets Centre
URL:https://www.achurchnearyou.com/church/7752/service-and-events/events/5
 11654/
END:VEVENT
BEGIN:VEVENT
SUMMARY:The Hub / On hold
DTSTART;TZID=Europe/London:20260618T174500
DTEND;TZID=Europe/London:20260618T191500
DTSTAMP:20260420T023825Z
UID:5116542026-06-18 17:45:00+01:00achurchnearyou
CATEGORIES:
DESCRIPTION:Have fun or just chill in a safe environment...\n\nFor ages 8+
 \n\nAdmission: £1
LOCATION:St Margarets Centre
URL:https://www.achurchnearyou.com/church/7752/service-and-events/events/5
 11654/
END:VEVENT
BEGIN:VEVENT
SUMMARY:The Hub / On hold
DTSTART;TZID=Europe/London:20260625T174500
DTEND;TZID=Europe/London:20260625T191500
DTSTAMP:20260420T023825Z
UID:5116542026-06-25 17:45:00+01:00achurchnearyou
CATEGORIES:
DESCRIPTION:Have fun or just chill in a safe environment...\n\nFor ages 8+
 \n\nAdmission: £1
LOCATION:St Margarets Centre
URL:https://www.achurchnearyou.com/church/7752/service-and-events/events/5
 11654/
END:VEVENT
BEGIN:VEVENT
SUMMARY:The Hub / On hold
DTSTART;TZID=Europe/London:20260702T174500
DTEND;TZID=Europe/London:20260702T191500
DTSTAMP:20260420T023825Z
UID:5116542026-07-02 17:45:00+01:00achurchnearyou
CATEGORIES:
DESCRIPTION:Have fun or just chill in a safe environment...\n\nFor ages 8+
 \n\nAdmission: £1
LOCATION:St Margarets Centre
URL:https://www.achurchnearyou.com/church/7752/service-and-events/events/5
 11654/
END:VEVENT
BEGIN:VEVENT
SUMMARY:The Hub / On hold
DTSTART;TZID=Europe/London:20260709T174500
DTEND;TZID=Europe/London:20260709T191500
DTSTAMP:20260420T023825Z
UID:5116542026-07-09 17:45:00+01:00achurchnearyou
CATEGORIES:
DESCRIPTION:Have fun or just chill in a safe environment...\n\nFor ages 8+
 \n\nAdmission: £1
LOCATION:St Margarets Centre
URL:https://www.achurchnearyou.com/church/7752/service-and-events/events/5
 11654/
END:VEVENT
BEGIN:VEVENT
SUMMARY:The Hub / On hold
DTSTART;TZID=Europe/London:20260716T174500
DTEND;TZID=Europe/London:20260716T191500
DTSTAMP:20260420T023825Z
UID:5116542026-07-16 17:45:00+01:00achurchnearyou
CATEGORIES:
DESCRIPTION:Have fun or just chill in a safe environment...\n\nFor ages 8+
 \n\nAdmission: £1
LOCATION:St Margarets Centre
URL:https://www.achurchnearyou.com/church/7752/service-and-events/events/5
 11654/
END:VEVENT
BEGIN:VEVENT
SUMMARY:The Hub / On hold
DTSTART;TZID=Europe/London:20260723T174500
DTEND;TZID=Europe/London:20260723T191500
DTSTAMP:20260420T023825Z
UID:5116542026-07-23 17:45:00+01:00achurchnearyou
CATEGORIES:
DESCRIPTION:Have fun or just chill in a safe environment...\n\nFor ages 8+
 \n\nAdmission: £1
LOCATION:St Margarets Centre
URL:https://www.achurchnearyou.com/church/7752/service-and-events/events/5
 11654/
END:VEVENT
BEGIN:VEVENT
SUMMARY:The Hub / On hold
DTSTART;TZID=Europe/London:20260730T174500
DTEND;TZID=Europe/London:20260730T191500
DTSTAMP:20260420T023825Z
UID:5116542026-07-30 17:45:00+01:00achurchnearyou
CATEGORIES:
DESCRIPTION:Have fun or just chill in a safe environment...\n\nFor ages 8+
 \n\nAdmission: £1
LOCATION:St Margarets Centre
URL:https://www.achurchnearyou.com/church/7752/service-and-events/events/5
 11654/
END:VEVENT
BEGIN:VEVENT
SUMMARY:The Hub / On hold
DTSTART;TZID=Europe/London:20260806T174500
DTEND;TZID=Europe/London:20260806T191500
DTSTAMP:20260420T023825Z
UID:5116542026-08-06 17:45:00+01:00achurchnearyou
CATEGORIES:
DESCRIPTION:Have fun or just chill in a safe environment...\n\nFor ages 8+
 \n\nAdmission: £1
LOCATION:St Margarets Centre
URL:https://www.achurchnearyou.com/church/7752/service-and-events/events/5
 11654/
END:VEVENT
BEGIN:VEVENT
SUMMARY:The Hub / On hold
DTSTART;TZID=Europe/London:20260813T174500
DTEND;TZID=Europe/London:20260813T191500
DTSTAMP:20260420T023825Z
UID:5116542026-08-13 17:45:00+01:00achurchnearyou
CATEGORIES:
DESCRIPTION:Have fun or just chill in a safe environment...\n\nFor ages 8+
 \n\nAdmission: £1
LOCATION:St Margarets Centre
URL:https://www.achurchnearyou.com/church/7752/service-and-events/events/5
 11654/
END:VEVENT
BEGIN:VEVENT
SUMMARY:The Hub / On hold
DTSTART;TZID=Europe/London:20260820T174500
DTEND;TZID=Europe/London:20260820T191500
DTSTAMP:20260420T023825Z
UID:5116542026-08-20 17:45:00+01:00achurchnearyou
CATEGORIES:
DESCRIPTION:Have fun or just chill in a safe environment...\n\nFor ages 8+
 \n\nAdmission: £1
LOCATION:St Margarets Centre
URL:https://www.achurchnearyou.com/church/7752/service-and-events/events/5
 11654/
END:VEVENT
BEGIN:VEVENT
SUMMARY:The Hub / On hold
DTSTART;TZID=Europe/London:20260827T174500
DTEND;TZID=Europe/London:20260827T191500
DTSTAMP:20260420T023825Z
UID:5116542026-08-27 17:45:00+01:00achurchnearyou
CATEGORIES:
DESCRIPTION:Have fun or just chill in a safe environment...\n\nFor ages 8+
 \n\nAdmission: £1
LOCATION:St Margarets Centre
URL:https://www.achurchnearyou.com/church/7752/service-and-events/events/5
 11654/
END:VEVENT
BEGIN:VEVENT
SUMMARY:The Hub / On hold
DTSTART;TZID=Europe/London:20260903T174500
DTEND;TZID=Europe/London:20260903T191500
DTSTAMP:20260420T023825Z
UID:5116542026-09-03 17:45:00+01:00achurchnearyou
CATEGORIES:
DESCRIPTION:Have fun or just chill in a safe environment...\n\nFor ages 8+
 \n\nAdmission: £1
LOCATION:St Margarets Centre
URL:https://www.achurchnearyou.com/church/7752/service-and-events/events/5
 11654/
END:VEVENT
BEGIN:VEVENT
SUMMARY:The Hub / On hold
DTSTART;TZID=Europe/London:20260910T174500
DTEND;TZID=Europe/London:20260910T191500
DTSTAMP:20260420T023825Z
UID:5116542026-09-10 17:45:00+01:00achurchnearyou
CATEGORIES:
DESCRIPTION:Have fun or just chill in a safe environment...\n\nFor ages 8+
 \n\nAdmission: £1
LOCATION:St Margarets Centre
URL:https://www.achurchnearyou.com/church/7752/service-and-events/events/5
 11654/
END:VEVENT
BEGIN:VEVENT
SUMMARY:The Hub / On hold
DTSTART;TZID=Europe/London:20260917T174500
DTEND;TZID=Europe/London:20260917T191500
DTSTAMP:20260420T023825Z
UID:5116542026-09-17 17:45:00+01:00achurchnearyou
CATEGORIES:
DESCRIPTION:Have fun or just chill in a safe environment...\n\nFor ages 8+
 \n\nAdmission: £1
LOCATION:St Margarets Centre
URL:https://www.achurchnearyou.com/church/7752/service-and-events/events/5
 11654/
END:VEVENT
BEGIN:VEVENT
SUMMARY:The Hub / On hold
DTSTART;TZID=Europe/London:20260924T174500
DTEND;TZID=Europe/London:20260924T191500
DTSTAMP:20260420T023825Z
UID:5116542026-09-24 17:45:00+01:00achurchnearyou
CATEGORIES:
DESCRIPTION:Have fun or just chill in a safe environment...\n\nFor ages 8+
 \n\nAdmission: £1
LOCATION:St Margarets Centre
URL:https://www.achurchnearyou.com/church/7752/service-and-events/events/5
 11654/
END:VEVENT
BEGIN:VEVENT
SUMMARY:The Hub / On hold
DTSTART;TZID=Europe/London:20261001T174500
DTEND;TZID=Europe/London:20261001T191500
DTSTAMP:20260420T023825Z
UID:5116542026-10-01 17:45:00+01:00achurchnearyou
CATEGORIES:
DESCRIPTION:Have fun or just chill in a safe environment...\n\nFor ages 8+
 \n\nAdmission: £1
LOCATION:St Margarets Centre
URL:https://www.achurchnearyou.com/church/7752/service-and-events/events/5
 11654/
END:VEVENT
BEGIN:VEVENT
SUMMARY:The Hub / On hold
DTSTART;TZID=Europe/London:20261008T174500
DTEND;TZID=Europe/London:20261008T191500
DTSTAMP:20260420T023825Z
UID:5116542026-10-08 17:45:00+01:00achurchnearyou
CATEGORIES:
DESCRIPTION:Have fun or just chill in a safe environment...\n\nFor ages 8+
 \n\nAdmission: £1
LOCATION:St Margarets Centre
URL:https://www.achurchnearyou.com/church/7752/service-and-events/events/5
 11654/
END:VEVENT
BEGIN:VEVENT
SUMMARY:The Hub / On hold
DTSTART;TZID=Europe/London:20261015T174500
DTEND;TZID=Europe/London:20261015T191500
DTSTAMP:20260420T023825Z
UID:5116542026-10-15 17:45:00+01:00achurchnearyou
CATEGORIES:
DESCRIPTION:Have fun or just chill in a safe environment...\n\nFor ages 8+
 \n\nAdmission: £1
LOCATION:St Margarets Centre
URL:https://www.achurchnearyou.com/church/7752/service-and-events/events/5
 11654/
END:VEVENT
BEGIN:VEVENT
SUMMARY:The Hub / On hold
DTSTART;TZID=Europe/London:20261022T174500
DTEND;TZID=Europe/London:20261022T191500
DTSTAMP:20260420T023825Z
UID:5116542026-10-22 17:45:00+01:00achurchnearyou
CATEGORIES:
DESCRIPTION:Have fun or just chill in a safe environment...\n\nFor ages 8+
 \n\nAdmission: £1
LOCATION:St Margarets Centre
URL:https://www.achurchnearyou.com/church/7752/service-and-events/events/5
 11654/
END:VEVENT
BEGIN:VEVENT
SUMMARY:The Hub / On hold
DTSTART;TZID=Europe/London:20261029T174500
DTEND;TZID=Europe/London:20261029T191500
DTSTAMP:20260420T023825Z
UID:5116542026-10-29 17:45:00+00:00achurchnearyou
CATEGORIES:
DESCRIPTION:Have fun or just chill in a safe environment...\n\nFor ages 8+
 \n\nAdmission: £1
LOCATION:St Margarets Centre
URL:https://www.achurchnearyou.com/church/7752/service-and-events/events/5
 11654/
END:VEVENT
BEGIN:VEVENT
SUMMARY:The Hub / On hold
DTSTART;TZID=Europe/London:20261105T174500
DTEND;TZID=Europe/London:20261105T191500
DTSTAMP:20260420T023825Z
UID:5116542026-11-05 17:45:00+00:00achurchnearyou
CATEGORIES:
DESCRIPTION:Have fun or just chill in a safe environment...\n\nFor ages 8+
 \n\nAdmission: £1
LOCATION:St Margarets Centre
URL:https://www.achurchnearyou.com/church/7752/service-and-events/events/5
 11654/
END:VEVENT
BEGIN:VEVENT
SUMMARY:The Hub / On hold
DTSTART;TZID=Europe/London:20261112T174500
DTEND;TZID=Europe/London:20261112T191500
DTSTAMP:20260420T023825Z
UID:5116542026-11-12 17:45:00+00:00achurchnearyou
CATEGORIES:
DESCRIPTION:Have fun or just chill in a safe environment...\n\nFor ages 8+
 \n\nAdmission: £1
LOCATION:St Margarets Centre
URL:https://www.achurchnearyou.com/church/7752/service-and-events/events/5
 11654/
END:VEVENT
BEGIN:VEVENT
SUMMARY:The Hub / On hold
DTSTART;TZID=Europe/London:20261119T174500
DTEND;TZID=Europe/London:20261119T191500
DTSTAMP:20260420T023825Z
UID:5116542026-11-19 17:45:00+00:00achurchnearyou
CATEGORIES:
DESCRIPTION:Have fun or just chill in a safe environment...\n\nFor ages 8+
 \n\nAdmission: £1
LOCATION:St Margarets Centre
URL:https://www.achurchnearyou.com/church/7752/service-and-events/events/5
 11654/
END:VEVENT
BEGIN:VEVENT
SUMMARY:The Hub / On hold
DTSTART;TZID=Europe/London:20261126T174500
DTEND;TZID=Europe/London:20261126T191500
DTSTAMP:20260420T023825Z
UID:5116542026-11-26 17:45:00+00:00achurchnearyou
CATEGORIES:
DESCRIPTION:Have fun or just chill in a safe environment...\n\nFor ages 8+
 \n\nAdmission: £1
LOCATION:St Margarets Centre
URL:https://www.achurchnearyou.com/church/7752/service-and-events/events/5
 11654/
END:VEVENT
BEGIN:VEVENT
SUMMARY:The Hub / On hold
DTSTART;TZID=Europe/London:20261203T174500
DTEND;TZID=Europe/London:20261203T191500
DTSTAMP:20260420T023825Z
UID:5116542026-12-03 17:45:00+00:00achurchnearyou
CATEGORIES:
DESCRIPTION:Have fun or just chill in a safe environment...\n\nFor ages 8+
 \n\nAdmission: £1
LOCATION:St Margarets Centre
URL:https://www.achurchnearyou.com/church/7752/service-and-events/events/5
 11654/
END:VEVENT
BEGIN:VEVENT
SUMMARY:The Hub / On hold
DTSTART;TZID=Europe/London:20261210T174500
DTEND;TZID=Europe/London:20261210T191500
DTSTAMP:20260420T023825Z
UID:5116542026-12-10 17:45:00+00:00achurchnearyou
CATEGORIES:
DESCRIPTION:Have fun or just chill in a safe environment...\n\nFor ages 8+
 \n\nAdmission: £1
LOCATION:St Margarets Centre
URL:https://www.achurchnearyou.com/church/7752/service-and-events/events/5
 11654/
END:VEVENT
BEGIN:VEVENT
SUMMARY:The Hub / On hold
DTSTART;TZID=Europe/London:20261217T174500
DTEND;TZID=Europe/London:20261217T191500
DTSTAMP:20260420T023825Z
UID:5116542026-12-17 17:45:00+00:00achurchnearyou
CATEGORIES:
DESCRIPTION:Have fun or just chill in a safe environment...\n\nFor ages 8+
 \n\nAdmission: £1
LOCATION:St Margarets Centre
URL:https://www.achurchnearyou.com/church/7752/service-and-events/events/5
 11654/
END:VEVENT
BEGIN:VEVENT
SUMMARY:The Hub / On hold
DTSTART;TZID=Europe/London:20261224T174500
DTEND;TZID=Europe/London:20261224T191500
DTSTAMP:20260420T023825Z
UID:5116542026-12-24 17:45:00+00:00achurchnearyou
CATEGORIES:
DESCRIPTION:Have fun or just chill in a safe environment...\n\nFor ages 8+
 \n\nAdmission: £1
LOCATION:St Margarets Centre
URL:https://www.achurchnearyou.com/church/7752/service-and-events/events/5
 11654/
END:VEVENT
BEGIN:VEVENT
SUMMARY:The Hub / On hold
DTSTART;TZID=Europe/London:20261231T174500
DTEND;TZID=Europe/London:20261231T191500
DTSTAMP:20260420T023825Z
UID:5116542026-12-31 17:45:00+00:00achurchnearyou
CATEGORIES:
DESCRIPTION:Have fun or just chill in a safe environment...\n\nFor ages 8+
 \n\nAdmission: £1
LOCATION:St Margarets Centre
URL:https://www.achurchnearyou.com/church/7752/service-and-events/events/5
 11654/
END:VEVENT
BEGIN:VEVENT
SUMMARY:The Hub / On hold
DTSTART;TZID=Europe/London:20270107T174500
DTEND;TZID=Europe/London:20270107T191500
DTSTAMP:20260420T023825Z
UID:5116542027-01-07 17:45:00+00:00achurchnearyou
CATEGORIES:
DESCRIPTION:Have fun or just chill in a safe environment...\n\nFor ages 8+
 \n\nAdmission: £1
LOCATION:St Margarets Centre
URL:https://www.achurchnearyou.com/church/7752/service-and-events/events/5
 11654/
END:VEVENT
BEGIN:VEVENT
SUMMARY:The Hub / On hold
DTSTART;TZID=Europe/London:20270114T174500
DTEND;TZID=Europe/London:20270114T191500
DTSTAMP:20260420T023825Z
UID:5116542027-01-14 17:45:00+00:00achurchnearyou
CATEGORIES:
DESCRIPTION:Have fun or just chill in a safe environment...\n\nFor ages 8+
 \n\nAdmission: £1
LOCATION:St Margarets Centre
URL:https://www.achurchnearyou.com/church/7752/service-and-events/events/5
 11654/
END:VEVENT
BEGIN:VEVENT
SUMMARY:The Hub / On hold
DTSTART;TZID=Europe/London:20270121T174500
DTEND;TZID=Europe/London:20270121T191500
DTSTAMP:20260420T023825Z
UID:5116542027-01-21 17:45:00+00:00achurchnearyou
CATEGORIES:
DESCRIPTION:Have fun or just chill in a safe environment...\n\nFor ages 8+
 \n\nAdmission: £1
LOCATION:St Margarets Centre
URL:https://www.achurchnearyou.com/church/7752/service-and-events/events/5
 11654/
END:VEVENT
BEGIN:VEVENT
SUMMARY:The Hub / On hold
DTSTART;TZID=Europe/London:20270128T174500
DTEND;TZID=Europe/London:20270128T191500
DTSTAMP:20260420T023825Z
UID:5116542027-01-28 17:45:00+00:00achurchnearyou
CATEGORIES:
DESCRIPTION:Have fun or just chill in a safe environment...\n\nFor ages 8+
 \n\nAdmission: £1
LOCATION:St Margarets Centre
URL:https://www.achurchnearyou.com/church/7752/service-and-events/events/5
 11654/
END:VEVENT
BEGIN:VEVENT
SUMMARY:The Hub / On hold
DTSTART;TZID=Europe/London:20270204T174500
DTEND;TZID=Europe/London:20270204T191500
DTSTAMP:20260420T023825Z
UID:5116542027-02-04 17:45:00+00:00achurchnearyou
CATEGORIES:
DESCRIPTION:Have fun or just chill in a safe environment...\n\nFor ages 8+
 \n\nAdmission: £1
LOCATION:St Margarets Centre
URL:https://www.achurchnearyou.com/church/7752/service-and-events/events/5
 11654/
END:VEVENT
BEGIN:VEVENT
SUMMARY:The Hub / On hold
DTSTART;TZID=Europe/London:20270211T174500
DTEND;TZID=Europe/London:20270211T191500
DTSTAMP:20260420T023825Z
UID:5116542027-02-11 17:45:00+00:00achurchnearyou
CATEGORIES:
DESCRIPTION:Have fun or just chill in a safe environment...\n\nFor ages 8+
 \n\nAdmission: £1
LOCATION:St Margarets Centre
URL:https://www.achurchnearyou.com/church/7752/service-and-events/events/5
 11654/
END:VEVENT
BEGIN:VEVENT
SUMMARY:The Hub / On hold
DTSTART;TZID=Europe/London:20270218T174500
DTEND;TZID=Europe/London:20270218T191500
DTSTAMP:20260420T023825Z
UID:5116542027-02-18 17:45:00+00:00achurchnearyou
CATEGORIES:
DESCRIPTION:Have fun or just chill in a safe environment...\n\nFor ages 8+
 \n\nAdmission: £1
LOCATION:St Margarets Centre
URL:https://www.achurchnearyou.com/church/7752/service-and-events/events/5
 11654/
END:VEVENT
BEGIN:VEVENT
SUMMARY:The Hub / On hold
DTSTART;TZID=Europe/London:20270225T174500
DTEND;TZID=Europe/London:20270225T191500
DTSTAMP:20260420T023825Z
UID:5116542027-02-25 17:45:00+00:00achurchnearyou
CATEGORIES:
DESCRIPTION:Have fun or just chill in a safe environment...\n\nFor ages 8+
 \n\nAdmission: £1
LOCATION:St Margarets Centre
URL:https://www.achurchnearyou.com/church/7752/service-and-events/events/5
 11654/
END:VEVENT
BEGIN:VEVENT
SUMMARY:The Hub / On hold
DTSTART;TZID=Europe/London:20270304T174500
DTEND;TZID=Europe/London:20270304T191500
DTSTAMP:20260420T023825Z
UID:5116542027-03-04 17:45:00+00:00achurchnearyou
CATEGORIES:
DESCRIPTION:Have fun or just chill in a safe environment...\n\nFor ages 8+
 \n\nAdmission: £1
LOCATION:St Margarets Centre
URL:https://www.achurchnearyou.com/church/7752/service-and-events/events/5
 11654/
END:VEVENT
BEGIN:VEVENT
SUMMARY:The Hub / On hold
DTSTART;TZID=Europe/London:20270311T174500
DTEND;TZID=Europe/London:20270311T191500
DTSTAMP:20260420T023825Z
UID:5116542027-03-11 17:45:00+00:00achurchnearyou
CATEGORIES:
DESCRIPTION:Have fun or just chill in a safe environment...\n\nFor ages 8+
 \n\nAdmission: £1
LOCATION:St Margarets Centre
URL:https://www.achurchnearyou.com/church/7752/service-and-events/events/5
 11654/
END:VEVENT
BEGIN:VEVENT
SUMMARY:The Hub / On hold
DTSTART;TZID=Europe/London:20270318T174500
DTEND;TZID=Europe/London:20270318T191500
DTSTAMP:20260420T023825Z
UID:5116542027-03-18 17:45:00+00:00achurchnearyou
CATEGORIES:
DESCRIPTION:Have fun or just chill in a safe environment...\n\nFor ages 8+
 \n\nAdmission: £1
LOCATION:St Margarets Centre
URL:https://www.achurchnearyou.com/church/7752/service-and-events/events/5
 11654/
END:VEVENT
BEGIN:VEVENT
SUMMARY:The Hub / On hold
DTSTART;TZID=Europe/London:20270325T174500
DTEND;TZID=Europe/London:20270325T191500
DTSTAMP:20260420T023825Z
UID:5116542027-03-25 17:45:00+00:00achurchnearyou
CATEGORIES:
DESCRIPTION:Have fun or just chill in a safe environment...\n\nFor ages 8+
 \n\nAdmission: £1
LOCATION:St Margarets Centre
URL:https://www.achurchnearyou.com/church/7752/service-and-events/events/5
 11654/
END:VEVENT
BEGIN:VEVENT
SUMMARY:The Hub / On hold
DTSTART;TZID=Europe/London:20270401T174500
DTEND;TZID=Europe/London:20270401T191500
DTSTAMP:20260420T023825Z
UID:5116542027-04-01 17:45:00+01:00achurchnearyou
CATEGORIES:
DESCRIPTION:Have fun or just chill in a safe environment...\n\nFor ages 8+
 \n\nAdmission: £1
LOCATION:St Margarets Centre
URL:https://www.achurchnearyou.com/church/7752/service-and-events/events/5
 11654/
END:VEVENT
BEGIN:VEVENT
SUMMARY:The Hub / On hold
DTSTART;TZID=Europe/London:20270408T174500
DTEND;TZID=Europe/London:20270408T191500
DTSTAMP:20260420T023825Z
UID:5116542027-04-08 17:45:00+01:00achurchnearyou
CATEGORIES:
DESCRIPTION:Have fun or just chill in a safe environment...\n\nFor ages 8+
 \n\nAdmission: £1
LOCATION:St Margarets Centre
URL:https://www.achurchnearyou.com/church/7752/service-and-events/events/5
 11654/
END:VEVENT
BEGIN:VEVENT
SUMMARY:The Hub / On hold
DTSTART;TZID=Europe/London:20270415T174500
DTEND;TZID=Europe/London:20270415T191500
DTSTAMP:20260420T023825Z
UID:5116542027-04-15 17:45:00+01:00achurchnearyou
CATEGORIES:
DESCRIPTION:Have fun or just chill in a safe environment...\n\nFor ages 8+
 \n\nAdmission: £1
LOCATION:St Margarets Centre
URL:https://www.achurchnearyou.com/church/7752/service-and-events/events/5
 11654/
END:VEVENT
END:VCALENDAR
