BEGIN:VCALENDAR
VERSION:2.0
PRODID:-//achurchnearyou.com//eventfeed//EN
CALSCALE:GREGORIAN
METHOD:PUBLISH
X-WR-TIMEZONE:UTC
BEGIN:VEVENT
SUMMARY:Good Friday Reflection
DTSTART;TZID=Europe/London:20260403T110000
DTEND;TZID=Europe/London:20260403T120000
DTSTAMP:20260422T045355Z
UID:13136231775210400.0achurchnearyou
CATEGORIES:
DESCRIPTION:Join us for an hour of reflection with readings and hymns
GEO:-0.419518;52.215834
LOCATION:St Dunstan\, Bolnhurst
URL:https://www.wcrchurches.org/holy-week-easter
END:VEVENT
BEGIN:VEVENT
SUMMARY:Easter Family Activities Morning - Keysoe
DTSTART;TZID=Europe/London:20260404T100000
DTEND;TZID=Europe/London:20260404T120000
DTSTAMP:20260422T045355Z
UID:13136841775293200.0achurchnearyou
CATEGORIES:
DESCRIPTION:Join us for some free fun family activities and refreshments
LOCATION:St Mary the Virgin\, Keysoe
URL:https://www.wcrchurches.org/holy-week-easter
END:VEVENT
BEGIN:VEVENT
SUMMARY:Easter Sunday Holy Communion - Keysoe
DTSTART;TZID=Europe/London:20260405T110000
DTEND;TZID=Europe/London:20260405T120000
DTSTAMP:20260422T045355Z
UID:13136941775383200.0achurchnearyou
CATEGORIES:
DESCRIPTION:Halleluia! Christ has Risen!\nJoin us in a service of Holy Com
 munion as we celebrate our Lord's resurrection.
LOCATION:St Mary the Virgin\, Keysoe
URL:https://www.wcrchurches.org/holy-week-easter
END:VEVENT
BEGIN:VEVENT
SUMMARY:Monday Morning Prayer - St Mary's Keysoe
DTSTART;TZID=Europe/London:20260406T091500
DTEND;TZID=Europe/London:20260406T101500
DTSTAMP:20260422T045355Z
UID:10745131775463300.0achurchnearyou
CATEGORIES:
DESCRIPTION:All are welcome to join us for a service of Morning Prayer eac
 h Monday
LOCATION:St Mary the Virgin\, Keysoe
URL:https://www.wcrchurches.org/
END:VEVENT
BEGIN:VEVENT
SUMMARY:Monday Morning Prayer - St Mary's Keysoe
DTSTART;TZID=Europe/London:20260413T091500
DTEND;TZID=Europe/London:20260413T101500
DTSTAMP:20260422T045355Z
UID:10745131776068100.0achurchnearyou
CATEGORIES:
DESCRIPTION:All are welcome to join us for a service of Morning Prayer eac
 h Monday
LOCATION:St Mary the Virgin\, Keysoe
URL:https://www.wcrchurches.org/
END:VEVENT
BEGIN:VEVENT
SUMMARY:Monday Morning Prayer - St Mary's Keysoe
DTSTART;TZID=Europe/London:20260420T091500
DTEND;TZID=Europe/London:20260420T101500
DTSTAMP:20260422T045355Z
UID:10745131776672900.0achurchnearyou
CATEGORIES:
DESCRIPTION:All are welcome to join us for a service of Morning Prayer eac
 h Monday
LOCATION:St Mary the Virgin\, Keysoe
URL:https://www.wcrchurches.org/
END:VEVENT
BEGIN:VEVENT
SUMMARY:Monday Morning Prayer - St Mary's Keysoe
DTSTART;TZID=Europe/London:20260427T091500
DTEND;TZID=Europe/London:20260427T101500
DTSTAMP:20260422T045355Z
UID:10745131777277700.0achurchnearyou
CATEGORIES:
DESCRIPTION:All are welcome to join us for a service of Morning Prayer eac
 h Monday
LOCATION:St Mary the Virgin\, Keysoe
URL:https://www.wcrchurches.org/
END:VEVENT
BEGIN:VEVENT
SUMMARY:Monday Morning Prayer - St Mary's Keysoe
DTSTART;TZID=Europe/London:20260504T091500
DTEND;TZID=Europe/London:20260504T101500
DTSTAMP:20260422T045355Z
UID:10745131777882500.0achurchnearyou
CATEGORIES:
DESCRIPTION:All are welcome to join us for a service of Morning Prayer eac
 h Monday
LOCATION:St Mary the Virgin\, Keysoe
URL:https://www.wcrchurches.org/
END:VEVENT
BEGIN:VEVENT
SUMMARY:Monday Morning Prayer - St Mary's Keysoe
DTSTART;TZID=Europe/London:20260511T091500
DTEND;TZID=Europe/London:20260511T101500
DTSTAMP:20260422T045355Z
UID:10745131778487300.0achurchnearyou
CATEGORIES:
DESCRIPTION:All are welcome to join us for a service of Morning Prayer eac
 h Monday
LOCATION:St Mary the Virgin\, Keysoe
URL:https://www.wcrchurches.org/
END:VEVENT
BEGIN:VEVENT
SUMMARY:Monday Morning Prayer - St Mary's Keysoe
DTSTART;TZID=Europe/London:20260518T091500
DTEND;TZID=Europe/London:20260518T101500
DTSTAMP:20260422T045355Z
UID:10745131779092100.0achurchnearyou
CATEGORIES:
DESCRIPTION:All are welcome to join us for a service of Morning Prayer eac
 h Monday
LOCATION:St Mary the Virgin\, Keysoe
URL:https://www.wcrchurches.org/
END:VEVENT
BEGIN:VEVENT
SUMMARY:Monday Morning Prayer - St Mary's Keysoe
DTSTART;TZID=Europe/London:20260525T091500
DTEND;TZID=Europe/London:20260525T101500
DTSTAMP:20260422T045355Z
UID:10745131779696900.0achurchnearyou
CATEGORIES:
DESCRIPTION:All are welcome to join us for a service of Morning Prayer eac
 h Monday
LOCATION:St Mary the Virgin\, Keysoe
URL:https://www.wcrchurches.org/
END:VEVENT
BEGIN:VEVENT
SUMMARY:Monday Morning Prayer - St Mary's Keysoe
DTSTART;TZID=Europe/London:20260601T091500
DTEND;TZID=Europe/London:20260601T101500
DTSTAMP:20260422T045355Z
UID:10745131780301700.0achurchnearyou
CATEGORIES:
DESCRIPTION:All are welcome to join us for a service of Morning Prayer eac
 h Monday
LOCATION:St Mary the Virgin\, Keysoe
URL:https://www.wcrchurches.org/
END:VEVENT
BEGIN:VEVENT
SUMMARY:Monday Morning Prayer - St Mary's Keysoe
DTSTART;TZID=Europe/London:20260608T091500
DTEND;TZID=Europe/London:20260608T101500
DTSTAMP:20260422T045355Z
UID:10745131780906500.0achurchnearyou
CATEGORIES:
DESCRIPTION:All are welcome to join us for a service of Morning Prayer eac
 h Monday
LOCATION:St Mary the Virgin\, Keysoe
URL:https://www.wcrchurches.org/
END:VEVENT
BEGIN:VEVENT
SUMMARY:Monday Morning Prayer - St Mary's Keysoe
DTSTART;TZID=Europe/London:20260615T091500
DTEND;TZID=Europe/London:20260615T101500
DTSTAMP:20260422T045355Z
UID:10745131781511300.0achurchnearyou
CATEGORIES:
DESCRIPTION:All are welcome to join us for a service of Morning Prayer eac
 h Monday
LOCATION:St Mary the Virgin\, Keysoe
URL:https://www.wcrchurches.org/
END:VEVENT
BEGIN:VEVENT
SUMMARY:Monday Morning Prayer - St Mary's Keysoe
DTSTART;TZID=Europe/London:20260622T091500
DTEND;TZID=Europe/London:20260622T101500
DTSTAMP:20260422T045355Z
UID:10745131782116100.0achurchnearyou
CATEGORIES:
DESCRIPTION:All are welcome to join us for a service of Morning Prayer eac
 h Monday
LOCATION:St Mary the Virgin\, Keysoe
URL:https://www.wcrchurches.org/
END:VEVENT
BEGIN:VEVENT
SUMMARY:Monday Morning Prayer - St Mary's Keysoe
DTSTART;TZID=Europe/London:20260629T091500
DTEND;TZID=Europe/London:20260629T101500
DTSTAMP:20260422T045355Z
UID:10745131782720900.0achurchnearyou
CATEGORIES:
DESCRIPTION:All are welcome to join us for a service of Morning Prayer eac
 h Monday
LOCATION:St Mary the Virgin\, Keysoe
URL:https://www.wcrchurches.org/
END:VEVENT
BEGIN:VEVENT
SUMMARY:Monday Morning Prayer - St Mary's Keysoe
DTSTART;TZID=Europe/London:20260706T091500
DTEND;TZID=Europe/London:20260706T101500
DTSTAMP:20260422T045355Z
UID:10745131783325700.0achurchnearyou
CATEGORIES:
DESCRIPTION:All are welcome to join us for a service of Morning Prayer eac
 h Monday
LOCATION:St Mary the Virgin\, Keysoe
URL:https://www.wcrchurches.org/
END:VEVENT
BEGIN:VEVENT
SUMMARY:Monday Morning Prayer - St Mary's Keysoe
DTSTART;TZID=Europe/London:20260713T091500
DTEND;TZID=Europe/London:20260713T101500
DTSTAMP:20260422T045355Z
UID:10745131783930500.0achurchnearyou
CATEGORIES:
DESCRIPTION:All are welcome to join us for a service of Morning Prayer eac
 h Monday
LOCATION:St Mary the Virgin\, Keysoe
URL:https://www.wcrchurches.org/
END:VEVENT
BEGIN:VEVENT
SUMMARY:Monday Morning Prayer - St Mary's Keysoe
DTSTART;TZID=Europe/London:20260720T091500
DTEND;TZID=Europe/London:20260720T101500
DTSTAMP:20260422T045355Z
UID:10745131784535300.0achurchnearyou
CATEGORIES:
DESCRIPTION:All are welcome to join us for a service of Morning Prayer eac
 h Monday
LOCATION:St Mary the Virgin\, Keysoe
URL:https://www.wcrchurches.org/
END:VEVENT
BEGIN:VEVENT
SUMMARY:Monday Morning Prayer - St Mary's Keysoe
DTSTART;TZID=Europe/London:20260727T091500
DTEND;TZID=Europe/London:20260727T101500
DTSTAMP:20260422T045355Z
UID:10745131785140100.0achurchnearyou
CATEGORIES:
DESCRIPTION:All are welcome to join us for a service of Morning Prayer eac
 h Monday
LOCATION:St Mary the Virgin\, Keysoe
URL:https://www.wcrchurches.org/
END:VEVENT
BEGIN:VEVENT
SUMMARY:Monday Morning Prayer - St Mary's Keysoe
DTSTART;TZID=Europe/London:20260803T091500
DTEND;TZID=Europe/London:20260803T101500
DTSTAMP:20260422T045355Z
UID:10745131785744900.0achurchnearyou
CATEGORIES:
DESCRIPTION:All are welcome to join us for a service of Morning Prayer eac
 h Monday
LOCATION:St Mary the Virgin\, Keysoe
URL:https://www.wcrchurches.org/
END:VEVENT
BEGIN:VEVENT
SUMMARY:Monday Morning Prayer - St Mary's Keysoe
DTSTART;TZID=Europe/London:20260810T091500
DTEND;TZID=Europe/London:20260810T101500
DTSTAMP:20260422T045355Z
UID:10745131786349700.0achurchnearyou
CATEGORIES:
DESCRIPTION:All are welcome to join us for a service of Morning Prayer eac
 h Monday
LOCATION:St Mary the Virgin\, Keysoe
URL:https://www.wcrchurches.org/
END:VEVENT
BEGIN:VEVENT
SUMMARY:Monday Morning Prayer - St Mary's Keysoe
DTSTART;TZID=Europe/London:20260817T091500
DTEND;TZID=Europe/London:20260817T101500
DTSTAMP:20260422T045355Z
UID:10745131786954500.0achurchnearyou
CATEGORIES:
DESCRIPTION:All are welcome to join us for a service of Morning Prayer eac
 h Monday
LOCATION:St Mary the Virgin\, Keysoe
URL:https://www.wcrchurches.org/
END:VEVENT
BEGIN:VEVENT
SUMMARY:Monday Morning Prayer - St Mary's Keysoe
DTSTART;TZID=Europe/London:20260824T091500
DTEND;TZID=Europe/London:20260824T101500
DTSTAMP:20260422T045355Z
UID:10745131787559300.0achurchnearyou
CATEGORIES:
DESCRIPTION:All are welcome to join us for a service of Morning Prayer eac
 h Monday
LOCATION:St Mary the Virgin\, Keysoe
URL:https://www.wcrchurches.org/
END:VEVENT
BEGIN:VEVENT
SUMMARY:Monday Morning Prayer - St Mary's Keysoe
DTSTART;TZID=Europe/London:20260831T091500
DTEND;TZID=Europe/London:20260831T101500
DTSTAMP:20260422T045355Z
UID:10745131788164100.0achurchnearyou
CATEGORIES:
DESCRIPTION:All are welcome to join us for a service of Morning Prayer eac
 h Monday
LOCATION:St Mary the Virgin\, Keysoe
URL:https://www.wcrchurches.org/
END:VEVENT
BEGIN:VEVENT
SUMMARY:Monday Morning Prayer - St Mary's Keysoe
DTSTART;TZID=Europe/London:20260907T091500
DTEND;TZID=Europe/London:20260907T101500
DTSTAMP:20260422T045355Z
UID:10745131788768900.0achurchnearyou
CATEGORIES:
DESCRIPTION:All are welcome to join us for a service of Morning Prayer eac
 h Monday
LOCATION:St Mary the Virgin\, Keysoe
URL:https://www.wcrchurches.org/
END:VEVENT
BEGIN:VEVENT
SUMMARY:Monday Morning Prayer - St Mary's Keysoe
DTSTART;TZID=Europe/London:20260914T091500
DTEND;TZID=Europe/London:20260914T101500
DTSTAMP:20260422T045355Z
UID:10745131789373700.0achurchnearyou
CATEGORIES:
DESCRIPTION:All are welcome to join us for a service of Morning Prayer eac
 h Monday
LOCATION:St Mary the Virgin\, Keysoe
URL:https://www.wcrchurches.org/
END:VEVENT
BEGIN:VEVENT
SUMMARY:Monday Morning Prayer - St Mary's Keysoe
DTSTART;TZID=Europe/London:20260921T091500
DTEND;TZID=Europe/London:20260921T101500
DTSTAMP:20260422T045355Z
UID:10745131789978500.0achurchnearyou
CATEGORIES:
DESCRIPTION:All are welcome to join us for a service of Morning Prayer eac
 h Monday
LOCATION:St Mary the Virgin\, Keysoe
URL:https://www.wcrchurches.org/
END:VEVENT
BEGIN:VEVENT
SUMMARY:Monday Morning Prayer - St Mary's Keysoe
DTSTART;TZID=Europe/London:20260928T091500
DTEND;TZID=Europe/London:20260928T101500
DTSTAMP:20260422T045355Z
UID:10745131790583300.0achurchnearyou
CATEGORIES:
DESCRIPTION:All are welcome to join us for a service of Morning Prayer eac
 h Monday
LOCATION:St Mary the Virgin\, Keysoe
URL:https://www.wcrchurches.org/
END:VEVENT
END:VCALENDAR
