BEGIN:VCALENDAR
VERSION:2.0
PRODID:-//achurchnearyou.com//eventfeed//EN
CALSCALE:GREGORIAN
METHOD:PUBLISH
X-WR-TIMEZONE:UTC
BEGIN:VEVENT
SUMMARY:Midweek Communion Service
DTSTART;TZID=Europe/London:20251210T093000
DTEND;TZID=Europe/London:20251210T103000
DTSTAMP:20260420T061911Z
UID:12533702025-12-10 09:30:00+00:00achurchnearyou
CATEGORIES:
DESCRIPTION:Communion service held on alternative Wednesday mornings at 9.
 30am. Please see dates below.\n\n26 Nov 2025	9:30am	Communion (CW) - CANCE
 LLED\n10 Dec 2025	9:30am	Communion (CW)\n7 Jan 2026	9:30am	Communion (CW)\
 n21 Jan 2026	9:30am	Communion (CW)\n4 Feb 2026	9:30am	Communion (CW)\n4 Ma
 r 2026	9:30am	Communion (CW)\n18 Mar 2026	9:30am	Communion (CW)
GEO:-0.551083;52.209482
LOCATION:St Mary's\, Felmersham
URL:https://www.achurchnearyou.com/church/7760/service-and-events/events/1
 253370/
END:VEVENT
BEGIN:VEVENT
SUMMARY:Midweek Communion Service
DTSTART;TZID=Europe/London:20260107T093000
DTEND;TZID=Europe/London:20260107T103000
DTSTAMP:20260420T061911Z
UID:12533702026-01-07 09:30:00+00:00achurchnearyou
CATEGORIES:
DESCRIPTION:Communion service held on alternative Wednesday mornings at 9.
 30am. Please see dates below.\n\n26 Nov 2025	9:30am	Communion (CW) - CANCE
 LLED\n10 Dec 2025	9:30am	Communion (CW)\n7 Jan 2026	9:30am	Communion (CW)\
 n21 Jan 2026	9:30am	Communion (CW)\n4 Feb 2026	9:30am	Communion (CW)\n4 Ma
 r 2026	9:30am	Communion (CW)\n18 Mar 2026	9:30am	Communion (CW)
GEO:-0.551083;52.209482
LOCATION:St Mary's\, Felmersham
URL:https://www.achurchnearyou.com/church/7760/service-and-events/events/1
 253370/
END:VEVENT
BEGIN:VEVENT
SUMMARY:Midweek Communion Service
DTSTART;TZID=Europe/London:20260121T093000
DTEND;TZID=Europe/London:20260121T103000
DTSTAMP:20260420T061911Z
UID:12533702026-01-21 09:30:00+00:00achurchnearyou
CATEGORIES:
DESCRIPTION:Communion service held on alternative Wednesday mornings at 9.
 30am. Please see dates below.\n\n26 Nov 2025	9:30am	Communion (CW) - CANCE
 LLED\n10 Dec 2025	9:30am	Communion (CW)\n7 Jan 2026	9:30am	Communion (CW)\
 n21 Jan 2026	9:30am	Communion (CW)\n4 Feb 2026	9:30am	Communion (CW)\n4 Ma
 r 2026	9:30am	Communion (CW)\n18 Mar 2026	9:30am	Communion (CW)
GEO:-0.551083;52.209482
LOCATION:St Mary's\, Felmersham
URL:https://www.achurchnearyou.com/church/7760/service-and-events/events/1
 253370/
END:VEVENT
BEGIN:VEVENT
SUMMARY:Midweek Communion Service
DTSTART;TZID=Europe/London:20260204T093000
DTEND;TZID=Europe/London:20260204T103000
DTSTAMP:20260420T061911Z
UID:12533702026-02-04 09:30:00+00:00achurchnearyou
CATEGORIES:
DESCRIPTION:Communion service held on alternative Wednesday mornings at 9.
 30am. Please see dates below.\n\n26 Nov 2025	9:30am	Communion (CW) - CANCE
 LLED\n10 Dec 2025	9:30am	Communion (CW)\n7 Jan 2026	9:30am	Communion (CW)\
 n21 Jan 2026	9:30am	Communion (CW)\n4 Feb 2026	9:30am	Communion (CW)\n4 Ma
 r 2026	9:30am	Communion (CW)\n18 Mar 2026	9:30am	Communion (CW)
GEO:-0.551083;52.209482
LOCATION:St Mary's\, Felmersham
URL:https://www.achurchnearyou.com/church/7760/service-and-events/events/1
 253370/
END:VEVENT
BEGIN:VEVENT
SUMMARY:Midweek Communion Service
DTSTART;TZID=Europe/London:20260304T093000
DTEND;TZID=Europe/London:20260304T103000
DTSTAMP:20260420T061911Z
UID:12533702026-03-04 09:30:00+00:00achurchnearyou
CATEGORIES:
DESCRIPTION:Communion service held on alternative Wednesday mornings at 9.
 30am. Please see dates below.\n\n26 Nov 2025	9:30am	Communion (CW) - CANCE
 LLED\n10 Dec 2025	9:30am	Communion (CW)\n7 Jan 2026	9:30am	Communion (CW)\
 n21 Jan 2026	9:30am	Communion (CW)\n4 Feb 2026	9:30am	Communion (CW)\n4 Ma
 r 2026	9:30am	Communion (CW)\n18 Mar 2026	9:30am	Communion (CW)
GEO:-0.551083;52.209482
LOCATION:St Mary's\, Felmersham
URL:https://www.achurchnearyou.com/church/7760/service-and-events/events/1
 253370/
END:VEVENT
BEGIN:VEVENT
SUMMARY:Midweek Communion Service
DTSTART;TZID=Europe/London:20260318T093000
DTEND;TZID=Europe/London:20260318T103000
DTSTAMP:20260420T061911Z
UID:12533702026-03-18 09:30:00+00:00achurchnearyou
CATEGORIES:
DESCRIPTION:Communion service held on alternative Wednesday mornings at 9.
 30am. Please see dates below.\n\n26 Nov 2025	9:30am	Communion (CW) - CANCE
 LLED\n10 Dec 2025	9:30am	Communion (CW)\n7 Jan 2026	9:30am	Communion (CW)\
 n21 Jan 2026	9:30am	Communion (CW)\n4 Feb 2026	9:30am	Communion (CW)\n4 Ma
 r 2026	9:30am	Communion (CW)\n18 Mar 2026	9:30am	Communion (CW)
GEO:-0.551083;52.209482
LOCATION:St Mary's\, Felmersham
URL:https://www.achurchnearyou.com/church/7760/service-and-events/events/1
 253370/
END:VEVENT
END:VCALENDAR
