BEGIN:VCALENDAR
VERSION:2.0
PRODID:-//achurchnearyou.com//eventfeed//EN
CALSCALE:GREGORIAN
METHOD:PUBLISH
X-WR-TIMEZONE:UTC
BEGIN:VEVENT
SUMMARY:Family Communion
DTSTART;TZID=Europe/London:20260510T103000
DTEND;TZID=Europe/London:20260510T113000
DTSTAMP:20260423T145321Z
UID:10239102026-05-10 10:30:00+01:00achurchnearyou
CATEGORIES:
DESCRIPTION:A relaxed and friendly family communion service\, with activit
 ies for children. We meet on the second Sunday of each month at 10:30am. A
 ll are welcome!
GEO:-0.558785;52.242844
LOCATION:All Saints'\, Souldrop
URL:https://www.achurchnearyou.com/church/7775/service-and-events/events/1
 023910/
END:VEVENT
BEGIN:VEVENT
SUMMARY:Family Communion
DTSTART;TZID=Europe/London:20260614T103000
DTEND;TZID=Europe/London:20260614T113000
DTSTAMP:20260423T145321Z
UID:10239102026-06-14 10:30:00+01:00achurchnearyou
CATEGORIES:
DESCRIPTION:A relaxed and friendly family communion service\, with activit
 ies for children. We meet on the second Sunday of each month at 10:30am. A
 ll are welcome!
GEO:-0.558785;52.242844
LOCATION:All Saints'\, Souldrop
URL:https://www.achurchnearyou.com/church/7775/service-and-events/events/1
 023910/
END:VEVENT
BEGIN:VEVENT
SUMMARY:Family Communion
DTSTART;TZID=Europe/London:20260712T103000
DTEND;TZID=Europe/London:20260712T113000
DTSTAMP:20260423T145321Z
UID:10239102026-07-12 10:30:00+01:00achurchnearyou
CATEGORIES:
DESCRIPTION:A relaxed and friendly family communion service\, with activit
 ies for children. We meet on the second Sunday of each month at 10:30am. A
 ll are welcome!
GEO:-0.558785;52.242844
LOCATION:All Saints'\, Souldrop
URL:https://www.achurchnearyou.com/church/7775/service-and-events/events/1
 023910/
END:VEVENT
BEGIN:VEVENT
SUMMARY:Family Communion
DTSTART;TZID=Europe/London:20260809T103000
DTEND;TZID=Europe/London:20260809T113000
DTSTAMP:20260423T145321Z
UID:10239102026-08-09 10:30:00+01:00achurchnearyou
CATEGORIES:
DESCRIPTION:A relaxed and friendly family communion service\, with activit
 ies for children. We meet on the second Sunday of each month at 10:30am. A
 ll are welcome!
GEO:-0.558785;52.242844
LOCATION:All Saints'\, Souldrop
URL:https://www.achurchnearyou.com/church/7775/service-and-events/events/1
 023910/
END:VEVENT
BEGIN:VEVENT
SUMMARY:Family Communion
DTSTART;TZID=Europe/London:20260913T103000
DTEND;TZID=Europe/London:20260913T113000
DTSTAMP:20260423T145321Z
UID:10239102026-09-13 10:30:00+01:00achurchnearyou
CATEGORIES:
DESCRIPTION:A relaxed and friendly family communion service\, with activit
 ies for children. We meet on the second Sunday of each month at 10:30am. A
 ll are welcome!
GEO:-0.558785;52.242844
LOCATION:All Saints'\, Souldrop
URL:https://www.achurchnearyou.com/church/7775/service-and-events/events/1
 023910/
END:VEVENT
BEGIN:VEVENT
SUMMARY:Family Communion
DTSTART;TZID=Europe/London:20261011T103000
DTEND;TZID=Europe/London:20261011T113000
DTSTAMP:20260423T145321Z
UID:10239102026-10-11 10:30:00+01:00achurchnearyou
CATEGORIES:
DESCRIPTION:A relaxed and friendly family communion service\, with activit
 ies for children. We meet on the second Sunday of each month at 10:30am. A
 ll are welcome!
GEO:-0.558785;52.242844
LOCATION:All Saints'\, Souldrop
URL:https://www.achurchnearyou.com/church/7775/service-and-events/events/1
 023910/
END:VEVENT
BEGIN:VEVENT
SUMMARY:Family Communion
DTSTART;TZID=Europe/London:20261108T103000
DTEND;TZID=Europe/London:20261108T113000
DTSTAMP:20260423T145321Z
UID:10239102026-11-08 10:30:00+00:00achurchnearyou
CATEGORIES:
DESCRIPTION:A relaxed and friendly family communion service\, with activit
 ies for children. We meet on the second Sunday of each month at 10:30am. A
 ll are welcome!
GEO:-0.558785;52.242844
LOCATION:All Saints'\, Souldrop
URL:https://www.achurchnearyou.com/church/7775/service-and-events/events/1
 023910/
END:VEVENT
BEGIN:VEVENT
SUMMARY:Family Communion
DTSTART;TZID=Europe/London:20261213T103000
DTEND;TZID=Europe/London:20261213T113000
DTSTAMP:20260423T145321Z
UID:10239102026-12-13 10:30:00+00:00achurchnearyou
CATEGORIES:
DESCRIPTION:A relaxed and friendly family communion service\, with activit
 ies for children. We meet on the second Sunday of each month at 10:30am. A
 ll are welcome!
GEO:-0.558785;52.242844
LOCATION:All Saints'\, Souldrop
URL:https://www.achurchnearyou.com/church/7775/service-and-events/events/1
 023910/
END:VEVENT
BEGIN:VEVENT
SUMMARY:Family Communion
DTSTART;TZID=Europe/London:20270110T103000
DTEND;TZID=Europe/London:20270110T113000
DTSTAMP:20260423T145321Z
UID:10239102027-01-10 10:30:00+00:00achurchnearyou
CATEGORIES:
DESCRIPTION:A relaxed and friendly family communion service\, with activit
 ies for children. We meet on the second Sunday of each month at 10:30am. A
 ll are welcome!
GEO:-0.558785;52.242844
LOCATION:All Saints'\, Souldrop
URL:https://www.achurchnearyou.com/church/7775/service-and-events/events/1
 023910/
END:VEVENT
BEGIN:VEVENT
SUMMARY:Family Communion
DTSTART;TZID=Europe/London:20270214T103000
DTEND;TZID=Europe/London:20270214T113000
DTSTAMP:20260423T145321Z
UID:10239102027-02-14 10:30:00+00:00achurchnearyou
CATEGORIES:
DESCRIPTION:A relaxed and friendly family communion service\, with activit
 ies for children. We meet on the second Sunday of each month at 10:30am. A
 ll are welcome!
GEO:-0.558785;52.242844
LOCATION:All Saints'\, Souldrop
URL:https://www.achurchnearyou.com/church/7775/service-and-events/events/1
 023910/
END:VEVENT
BEGIN:VEVENT
SUMMARY:Family Communion
DTSTART;TZID=Europe/London:20270314T103000
DTEND;TZID=Europe/London:20270314T113000
DTSTAMP:20260423T145321Z
UID:10239102027-03-14 10:30:00+00:00achurchnearyou
CATEGORIES:
DESCRIPTION:A relaxed and friendly family communion service\, with activit
 ies for children. We meet on the second Sunday of each month at 10:30am. A
 ll are welcome!
GEO:-0.558785;52.242844
LOCATION:All Saints'\, Souldrop
URL:https://www.achurchnearyou.com/church/7775/service-and-events/events/1
 023910/
END:VEVENT
BEGIN:VEVENT
SUMMARY:Family Communion
DTSTART;TZID=Europe/London:20270411T103000
DTEND;TZID=Europe/London:20270411T113000
DTSTAMP:20260423T145321Z
UID:10239102027-04-11 10:30:00+01:00achurchnearyou
CATEGORIES:
DESCRIPTION:A relaxed and friendly family communion service\, with activit
 ies for children. We meet on the second Sunday of each month at 10:30am. A
 ll are welcome!
GEO:-0.558785;52.242844
LOCATION:All Saints'\, Souldrop
URL:https://www.achurchnearyou.com/church/7775/service-and-events/events/1
 023910/
END:VEVENT
END:VCALENDAR
