BEGIN:VCALENDAR
VERSION:2.0
PRODID:-//achurchnearyou.com//eventfeed//EN
CALSCALE:GREGORIAN
METHOD:PUBLISH
X-WR-TIMEZONE:UTC
BEGIN:VEVENT
SUMMARY:Morning Worship
DTSTART;TZID=Europe/London:20260405T104500
DTEND;TZID=Europe/London:20260405T120000
DTSTAMP:20260423T100642Z
UID:1476331775382300.0achurchnearyou
CATEGORIES:
DESCRIPTION:An informal lively family service\, bible reading\, sermon and
  praise.
GEO:-0.181375;51.38809
LOCATION:Saint Helier\, St Peter
URL:https://www.parishofsthelier.org.uk/
END:VEVENT
BEGIN:VEVENT
SUMMARY:Morning Worship
DTSTART;TZID=Europe/London:20260412T104500
DTEND;TZID=Europe/London:20260412T120000
DTSTAMP:20260423T100642Z
UID:1476331775987100.0achurchnearyou
CATEGORIES:
DESCRIPTION:An informal lively family service\, bible reading\, sermon and
  praise.
GEO:-0.181375;51.38809
LOCATION:Saint Helier\, St Peter
URL:https://www.parishofsthelier.org.uk/
END:VEVENT
BEGIN:VEVENT
SUMMARY:Holy Communion
DTSTART;TZID=Europe/London:20260419T104500
DTEND;TZID=Europe/London:20260419T121500
DTSTAMP:20260423T100642Z
UID:8063891776591900.0achurchnearyou
CATEGORIES:
DESCRIPTION:A lively family service of prayer\, praise\, bible reading & t
 eaching. Holy communion
GEO:-0.181375;51.38809
LOCATION:Saint Helier\, St Peter
URL:https://www.parishofsthelier.org.uk/
END:VEVENT
BEGIN:VEVENT
SUMMARY:Morning Worship
DTSTART;TZID=Europe/London:20260426T104500
DTEND;TZID=Europe/London:20260426T120000
DTSTAMP:20260423T100642Z
UID:1476331777196700.0achurchnearyou
CATEGORIES:
DESCRIPTION:An informal lively family service\, bible reading\, sermon and
  praise.
GEO:-0.181375;51.38809
LOCATION:Saint Helier\, St Peter
URL:https://www.parishofsthelier.org.uk/
END:VEVENT
BEGIN:VEVENT
SUMMARY:Morning Worship
DTSTART;TZID=Europe/London:20260503T104500
DTEND;TZID=Europe/London:20260503T120000
DTSTAMP:20260423T100642Z
UID:1476331777801500.0achurchnearyou
CATEGORIES:
DESCRIPTION:An informal lively family service\, bible reading\, sermon and
  praise.
GEO:-0.181375;51.38809
LOCATION:Saint Helier\, St Peter
URL:https://www.parishofsthelier.org.uk/
END:VEVENT
BEGIN:VEVENT
SUMMARY:Morning Worship
DTSTART;TZID=Europe/London:20260510T104500
DTEND;TZID=Europe/London:20260510T120000
DTSTAMP:20260423T100642Z
UID:1476331778406300.0achurchnearyou
CATEGORIES:
DESCRIPTION:An informal lively family service\, bible reading\, sermon and
  praise.
GEO:-0.181375;51.38809
LOCATION:Saint Helier\, St Peter
URL:https://www.parishofsthelier.org.uk/
END:VEVENT
BEGIN:VEVENT
SUMMARY:Holy Communion
DTSTART;TZID=Europe/London:20260517T104500
DTEND;TZID=Europe/London:20260517T121500
DTSTAMP:20260423T100642Z
UID:8063891779011100.0achurchnearyou
CATEGORIES:
DESCRIPTION:A lively family service of prayer\, praise\, bible reading & t
 eaching. Holy communion
GEO:-0.181375;51.38809
LOCATION:Saint Helier\, St Peter
URL:https://www.parishofsthelier.org.uk/
END:VEVENT
BEGIN:VEVENT
SUMMARY:Morning Worship
DTSTART;TZID=Europe/London:20260524T104500
DTEND;TZID=Europe/London:20260524T120000
DTSTAMP:20260423T100642Z
UID:1476331779615900.0achurchnearyou
CATEGORIES:
DESCRIPTION:An informal lively family service\, bible reading\, sermon and
  praise.
GEO:-0.181375;51.38809
LOCATION:Saint Helier\, St Peter
URL:https://www.parishofsthelier.org.uk/
END:VEVENT
BEGIN:VEVENT
SUMMARY:Morning Worship
DTSTART;TZID=Europe/London:20260531T104500
DTEND;TZID=Europe/London:20260531T120000
DTSTAMP:20260423T100642Z
UID:1476331780220700.0achurchnearyou
CATEGORIES:
DESCRIPTION:An informal lively family service\, bible reading\, sermon and
  praise.
GEO:-0.181375;51.38809
LOCATION:Saint Helier\, St Peter
URL:https://www.parishofsthelier.org.uk/
END:VEVENT
BEGIN:VEVENT
SUMMARY:Morning Worship
DTSTART;TZID=Europe/London:20260607T104500
DTEND;TZID=Europe/London:20260607T120000
DTSTAMP:20260423T100642Z
UID:1476331780825500.0achurchnearyou
CATEGORIES:
DESCRIPTION:An informal lively family service\, bible reading\, sermon and
  praise.
GEO:-0.181375;51.38809
LOCATION:Saint Helier\, St Peter
URL:https://www.parishofsthelier.org.uk/
END:VEVENT
BEGIN:VEVENT
SUMMARY:Morning Worship
DTSTART;TZID=Europe/London:20260614T104500
DTEND;TZID=Europe/London:20260614T120000
DTSTAMP:20260423T100642Z
UID:1476331781430300.0achurchnearyou
CATEGORIES:
DESCRIPTION:An informal lively family service\, bible reading\, sermon and
  praise.
GEO:-0.181375;51.38809
LOCATION:Saint Helier\, St Peter
URL:https://www.parishofsthelier.org.uk/
END:VEVENT
BEGIN:VEVENT
SUMMARY:Holy Communion
DTSTART;TZID=Europe/London:20260621T104500
DTEND;TZID=Europe/London:20260621T121500
DTSTAMP:20260423T100642Z
UID:8063891782035100.0achurchnearyou
CATEGORIES:
DESCRIPTION:A lively family service of prayer\, praise\, bible reading & t
 eaching. Holy communion
GEO:-0.181375;51.38809
LOCATION:Saint Helier\, St Peter
URL:https://www.parishofsthelier.org.uk/
END:VEVENT
BEGIN:VEVENT
SUMMARY:Morning Worship
DTSTART;TZID=Europe/London:20260628T104500
DTEND;TZID=Europe/London:20260628T120000
DTSTAMP:20260423T100642Z
UID:1476331782639900.0achurchnearyou
CATEGORIES:
DESCRIPTION:An informal lively family service\, bible reading\, sermon and
  praise.
GEO:-0.181375;51.38809
LOCATION:Saint Helier\, St Peter
URL:https://www.parishofsthelier.org.uk/
END:VEVENT
BEGIN:VEVENT
SUMMARY:Morning Worship
DTSTART;TZID=Europe/London:20260705T104500
DTEND;TZID=Europe/London:20260705T120000
DTSTAMP:20260423T100642Z
UID:1476331783244700.0achurchnearyou
CATEGORIES:
DESCRIPTION:An informal lively family service\, bible reading\, sermon and
  praise.
GEO:-0.181375;51.38809
LOCATION:Saint Helier\, St Peter
URL:https://www.parishofsthelier.org.uk/
END:VEVENT
BEGIN:VEVENT
SUMMARY:Morning Worship
DTSTART;TZID=Europe/London:20260712T104500
DTEND;TZID=Europe/London:20260712T120000
DTSTAMP:20260423T100642Z
UID:1476331783849500.0achurchnearyou
CATEGORIES:
DESCRIPTION:An informal lively family service\, bible reading\, sermon and
  praise.
GEO:-0.181375;51.38809
LOCATION:Saint Helier\, St Peter
URL:https://www.parishofsthelier.org.uk/
END:VEVENT
BEGIN:VEVENT
SUMMARY:Holy Communion
DTSTART;TZID=Europe/London:20260719T104500
DTEND;TZID=Europe/London:20260719T121500
DTSTAMP:20260423T100642Z
UID:8063891784454300.0achurchnearyou
CATEGORIES:
DESCRIPTION:A lively family service of prayer\, praise\, bible reading & t
 eaching. Holy communion
GEO:-0.181375;51.38809
LOCATION:Saint Helier\, St Peter
URL:https://www.parishofsthelier.org.uk/
END:VEVENT
BEGIN:VEVENT
SUMMARY:Morning Worship
DTSTART;TZID=Europe/London:20260726T104500
DTEND;TZID=Europe/London:20260726T120000
DTSTAMP:20260423T100642Z
UID:1476331785059100.0achurchnearyou
CATEGORIES:
DESCRIPTION:An informal lively family service\, bible reading\, sermon and
  praise.
GEO:-0.181375;51.38809
LOCATION:Saint Helier\, St Peter
URL:https://www.parishofsthelier.org.uk/
END:VEVENT
BEGIN:VEVENT
SUMMARY:Morning Worship
DTSTART;TZID=Europe/London:20260802T104500
DTEND;TZID=Europe/London:20260802T120000
DTSTAMP:20260423T100642Z
UID:1476331785663900.0achurchnearyou
CATEGORIES:
DESCRIPTION:An informal lively family service\, bible reading\, sermon and
  praise.
GEO:-0.181375;51.38809
LOCATION:Saint Helier\, St Peter
URL:https://www.parishofsthelier.org.uk/
END:VEVENT
BEGIN:VEVENT
SUMMARY:Morning Worship
DTSTART;TZID=Europe/London:20260809T104500
DTEND;TZID=Europe/London:20260809T120000
DTSTAMP:20260423T100642Z
UID:1476331786268700.0achurchnearyou
CATEGORIES:
DESCRIPTION:An informal lively family service\, bible reading\, sermon and
  praise.
GEO:-0.181375;51.38809
LOCATION:Saint Helier\, St Peter
URL:https://www.parishofsthelier.org.uk/
END:VEVENT
BEGIN:VEVENT
SUMMARY:Holy Communion
DTSTART;TZID=Europe/London:20260816T104500
DTEND;TZID=Europe/London:20260816T121500
DTSTAMP:20260423T100642Z
UID:8063891786873500.0achurchnearyou
CATEGORIES:
DESCRIPTION:A lively family service of prayer\, praise\, bible reading & t
 eaching. Holy communion
GEO:-0.181375;51.38809
LOCATION:Saint Helier\, St Peter
URL:https://www.parishofsthelier.org.uk/
END:VEVENT
BEGIN:VEVENT
SUMMARY:Morning Worship
DTSTART;TZID=Europe/London:20260823T104500
DTEND;TZID=Europe/London:20260823T120000
DTSTAMP:20260423T100642Z
UID:1476331787478300.0achurchnearyou
CATEGORIES:
DESCRIPTION:An informal lively family service\, bible reading\, sermon and
  praise.
GEO:-0.181375;51.38809
LOCATION:Saint Helier\, St Peter
URL:https://www.parishofsthelier.org.uk/
END:VEVENT
BEGIN:VEVENT
SUMMARY:Morning Worship
DTSTART;TZID=Europe/London:20260830T104500
DTEND;TZID=Europe/London:20260830T120000
DTSTAMP:20260423T100642Z
UID:1476331788083100.0achurchnearyou
CATEGORIES:
DESCRIPTION:An informal lively family service\, bible reading\, sermon and
  praise.
GEO:-0.181375;51.38809
LOCATION:Saint Helier\, St Peter
URL:https://www.parishofsthelier.org.uk/
END:VEVENT
BEGIN:VEVENT
SUMMARY:Morning Worship
DTSTART;TZID=Europe/London:20260906T104500
DTEND;TZID=Europe/London:20260906T120000
DTSTAMP:20260423T100642Z
UID:1476331788687900.0achurchnearyou
CATEGORIES:
DESCRIPTION:An informal lively family service\, bible reading\, sermon and
  praise.
GEO:-0.181375;51.38809
LOCATION:Saint Helier\, St Peter
URL:https://www.parishofsthelier.org.uk/
END:VEVENT
BEGIN:VEVENT
SUMMARY:Morning Worship
DTSTART;TZID=Europe/London:20260913T104500
DTEND;TZID=Europe/London:20260913T120000
DTSTAMP:20260423T100642Z
UID:1476331789292700.0achurchnearyou
CATEGORIES:
DESCRIPTION:An informal lively family service\, bible reading\, sermon and
  praise.
GEO:-0.181375;51.38809
LOCATION:Saint Helier\, St Peter
URL:https://www.parishofsthelier.org.uk/
END:VEVENT
BEGIN:VEVENT
SUMMARY:Holy Communion
DTSTART;TZID=Europe/London:20260920T104500
DTEND;TZID=Europe/London:20260920T121500
DTSTAMP:20260423T100642Z
UID:8063891789897500.0achurchnearyou
CATEGORIES:
DESCRIPTION:A lively family service of prayer\, praise\, bible reading & t
 eaching. Holy communion
GEO:-0.181375;51.38809
LOCATION:Saint Helier\, St Peter
URL:https://www.parishofsthelier.org.uk/
END:VEVENT
BEGIN:VEVENT
SUMMARY:Morning Worship
DTSTART;TZID=Europe/London:20260927T104500
DTEND;TZID=Europe/London:20260927T120000
DTSTAMP:20260423T100642Z
UID:1476331790502300.0achurchnearyou
CATEGORIES:
DESCRIPTION:An informal lively family service\, bible reading\, sermon and
  praise.
GEO:-0.181375;51.38809
LOCATION:Saint Helier\, St Peter
URL:https://www.parishofsthelier.org.uk/
END:VEVENT
END:VCALENDAR
