BEGIN:VCALENDAR
VERSION:2.0
PRODID:-//achurchnearyou.com//eventfeed//EN
CALSCALE:GREGORIAN
METHOD:PUBLISH
X-WR-TIMEZONE:UTC
BEGIN:VEVENT
SUMMARY:Benefice Service
DTSTART:20241229T100000Z
DTEND:20241229T110000Z
DTSTAMP:20260421T065036Z
UID:10948482024-12-29 10:00:00+00:00achurchnearyou
CATEGORIES:
DESCRIPTION:Come and celebrate the first Sunday after Christmas
GEO:-0.424722;52.057704
LOCATION:St Marys\, Haynes
URL:https://www.achurchnearyou.com/church/7791/service-and-events/events/1
 094848/
END:VEVENT
END:VCALENDAR
