BEGIN:VCALENDAR
VERSION:2.0
PRODID:-//achurchnearyou.com//eventfeed//EN
CALSCALE:GREGORIAN
METHOD:PUBLISH
X-WR-TIMEZONE:UTC
BEGIN:VEVENT
SUMMARY:Christingle
DTSTART:20251207T093000Z
DTEND:20251207T103000Z
DTSTAMP:20260420T093340Z
UID:12497022025-12-07 09:30:00+00:00achurchnearyou
CATEGORIES:
DESCRIPTION:Come and make a Christingle and support the work of the childr
 en's Society
GEO:-0.424722;52.057704
LOCATION:St Marys\, Haynes
URL:https://www.achurchnearyou.com/church/7791/service-and-events/events/1
 249702/
END:VEVENT
END:VCALENDAR
