BEGIN:VCALENDAR
VERSION:2.0
PRODID:-//achurchnearyou.com//eventfeed//EN
CALSCALE:GREGORIAN
METHOD:PUBLISH
X-WR-TIMEZONE:UTC
BEGIN:VEVENT
SUMMARY:Melodies for Autumn
DTSTART:20251010T183000Z
DTEND:20251010T203000Z
DTSTAMP:20260421T171119Z
UID:12192792025-10-10 18:30:00+00:00achurchnearyou
CATEGORIES:
DESCRIPTION:An evening of musical entertainment by the Pulloxhill Singers.
  The repertoire of this popular local choir ranges from Bach to The Beach 
 Boys\, from Mozart to Moon River.  With wine and nibbles in the interval\,
  this concert will be a perfect end to a mid-Autumn week!\n\nTickets are a
 vailable through Hilary Plummer at \n\nhilary05plummer@gmail.com\n\nand co
 st £10.00\, including a glass of wine.
GEO:-0.28397;52.034713
LOCATION:St Mary's\, Henlow
URL:https://www.achurchnearyou.com/church/7793/service-and-events/events/1
 219279/
END:VEVENT
END:VCALENDAR
