BEGIN:VCALENDAR
VERSION:2.0
PRODID:-//achurchnearyou.com//eventfeed//EN
CALSCALE:GREGORIAN
METHOD:PUBLISH
X-WR-TIMEZONE:UTC
BEGIN:VEVENT
SUMMARY:Midnight mass
DTSTART:20251224T231500Z
DTEND:20251225T001500Z
DTSTAMP:20260424T024817Z
UID:12607122025-12-24 23:15:00+00:00achurchnearyou
CATEGORIES:
DESCRIPTION:A Benefice service to celebrate the birth of Christ
LOCATION:St Mary's Henlow
URL:https://www.achurchnearyou.com/church/7794/service-and-events/events/1
 260712/
END:VEVENT
END:VCALENDAR
