BEGIN:VCALENDAR
VERSION:2.0
PRODID:-//achurchnearyou.com//eventfeed//EN
CALSCALE:GREGORIAN
METHOD:PUBLISH
X-WR-TIMEZONE:UTC
BEGIN:VEVENT
SUMMARY:Mothering Sunday
DTSTART:20250330T083000Z
DTEND:20250330T093000Z
DTSTAMP:20260421T064907Z
UID:11748212025-03-30 08:30:00+00:00achurchnearyou
CATEGORIES:
DESCRIPTION:Come and give thanks for mothers and the mother church.
GEO:-0.331047;52.066305
LOCATION:All Saints\, Southill
URL:https://www.achurchnearyou.com/church/7798/service-and-events/events/1
 174821/
END:VEVENT
END:VCALENDAR
