BEGIN:VCALENDAR
VERSION:2.0
PRODID:-//achurchnearyou.com//eventfeed//EN
CALSCALE:GREGORIAN
METHOD:PUBLISH
X-WR-TIMEZONE:UTC
BEGIN:VEVENT
SUMMARY:Remembrance Sunday
DTSTART:20251109T093000Z
DTEND:20251109T111500Z
DTSTAMP:20260420T171020Z
UID:12404692025-11-09 09:30:00+00:00achurchnearyou
CATEGORIES:
DESCRIPTION:Meet at 9.30am in the church for a said service of Holy Commun
 ion.\nFollowed by 10.45am at Southill War Memorial  for a service to recal
 l those who fell in WW1 and WW2.
GEO:-0.331047;52.066305
LOCATION:All Saints\, Southill
URL:https://www.achurchnearyou.com/church/7798/service-and-events/events/1
 240469/
END:VEVENT
END:VCALENDAR
