BEGIN:VCALENDAR
VERSION:2.0
PRODID:-//achurchnearyou.com//eventfeed//EN
CALSCALE:GREGORIAN
METHOD:PUBLISH
X-WR-TIMEZONE:UTC
BEGIN:VEVENT
SUMMARY:Christmas Fayre
DTSTART:20251129T110000Z
DTEND:20251129T140000Z
DTSTAMP:20260424T000820Z
UID:12574622025-11-29 11:00:00+00:00achurchnearyou
CATEGORIES:
DESCRIPTION:Come and join us at our Christmas Fayre. There will be lots of
  goodies on sale and our café will be open\, serving festive fair. Santa 
 will be in his grotto and looks forward to seeing lots of children on the 
 day.
GEO:-0.201357;51.698418
LOCATION:King Charles the Martyr (KCM)
URL:https://www.achurchnearyou.com/church/7811/service-and-events/events/1
 257462/
END:VEVENT
END:VCALENDAR
