BEGIN:VCALENDAR
VERSION:2.0
PRODID:-//achurchnearyou.com//eventfeed//EN
CALSCALE:GREGORIAN
METHOD:PUBLISH
X-WR-TIMEZONE:UTC
BEGIN:VEVENT
SUMMARY:Sunday Parish Communion
DTSTART;TZID=Europe/London:20260426T100000
DTEND;TZID=Europe/London:20260426T110000
DTSTAMP:20260420T161721Z
UID:8141992026-04-26 10:00:00+01:00achurchnearyou
CATEGORIES:
DESCRIPTION:Our main service\, using modern language\, with hymns and a se
 rmon\, and with a session for children/young people and their families.  T
 he Choir sometimes sings at this service.\nPlease note that you will need 
 to print your own order of service for Service of the Word if you are comi
 ng to Church (available via our website).
GEO:0.157041;51.870438
LOCATION:St Michael's
URL:https://www.achurchnearyou.com/church/7815/service-and-events/events/8
 14199/
END:VEVENT
BEGIN:VEVENT
SUMMARY:Sunday Parish Communion
DTSTART;TZID=Europe/London:20260510T100000
DTEND;TZID=Europe/London:20260510T110000
DTSTAMP:20260420T161721Z
UID:8141992026-05-10 10:00:00+01:00achurchnearyou
CATEGORIES:
DESCRIPTION:Our main service\, using modern language\, with hymns and a se
 rmon\, and with a session for children/young people and their families.  T
 he Choir sometimes sings at this service.\nPlease note that you will need 
 to print your own order of service for Service of the Word if you are comi
 ng to Church (available via our website).
GEO:0.157041;51.870438
LOCATION:St Michael's
URL:https://www.achurchnearyou.com/church/7815/service-and-events/events/8
 14199/
END:VEVENT
BEGIN:VEVENT
SUMMARY:Sunday Parish Communion
DTSTART;TZID=Europe/London:20260524T100000
DTEND;TZID=Europe/London:20260524T110000
DTSTAMP:20260420T161721Z
UID:8141992026-05-24 10:00:00+01:00achurchnearyou
CATEGORIES:
DESCRIPTION:Our main service\, using modern language\, with hymns and a se
 rmon\, and with a session for children/young people and their families.  T
 he Choir sometimes sings at this service.\nPlease note that you will need 
 to print your own order of service for Service of the Word if you are comi
 ng to Church (available via our website).
GEO:0.157041;51.870438
LOCATION:St Michael's
URL:https://www.achurchnearyou.com/church/7815/service-and-events/events/8
 14199/
END:VEVENT
BEGIN:VEVENT
SUMMARY:Sunday Parish Communion
DTSTART;TZID=Europe/London:20260531T100000
DTEND;TZID=Europe/London:20260531T110000
DTSTAMP:20260420T161721Z
UID:8141992026-05-31 10:00:00+01:00achurchnearyou
CATEGORIES:
DESCRIPTION:Our main service\, using modern language\, with hymns and a se
 rmon\, and with a session for children/young people and their families.  T
 he Choir sometimes sings at this service.\nPlease note that you will need 
 to print your own order of service for Service of the Word if you are comi
 ng to Church (available via our website).
GEO:0.157041;51.870438
LOCATION:St Michael's
URL:https://www.achurchnearyou.com/church/7815/service-and-events/events/8
 14199/
END:VEVENT
BEGIN:VEVENT
SUMMARY:Sunday Parish Communion
DTSTART;TZID=Europe/London:20260614T100000
DTEND;TZID=Europe/London:20260614T110000
DTSTAMP:20260420T161721Z
UID:8141992026-06-14 10:00:00+01:00achurchnearyou
CATEGORIES:
DESCRIPTION:Our main service\, using modern language\, with hymns and a se
 rmon\, and with a session for children/young people and their families.  T
 he Choir sometimes sings at this service.\nPlease note that you will need 
 to print your own order of service for Service of the Word if you are comi
 ng to Church (available via our website).
GEO:0.157041;51.870438
LOCATION:St Michael's
URL:https://www.achurchnearyou.com/church/7815/service-and-events/events/8
 14199/
END:VEVENT
BEGIN:VEVENT
SUMMARY:Sunday Parish Communion
DTSTART;TZID=Europe/London:20260628T100000
DTEND;TZID=Europe/London:20260628T110000
DTSTAMP:20260420T161721Z
UID:8141992026-06-28 10:00:00+01:00achurchnearyou
CATEGORIES:
DESCRIPTION:Our main service\, using modern language\, with hymns and a se
 rmon\, and with a session for children/young people and their families.  T
 he Choir sometimes sings at this service.\nPlease note that you will need 
 to print your own order of service for Service of the Word if you are comi
 ng to Church (available via our website).
GEO:0.157041;51.870438
LOCATION:St Michael's
URL:https://www.achurchnearyou.com/church/7815/service-and-events/events/8
 14199/
END:VEVENT
BEGIN:VEVENT
SUMMARY:Sunday Parish Communion
DTSTART;TZID=Europe/London:20260712T100000
DTEND;TZID=Europe/London:20260712T110000
DTSTAMP:20260420T161721Z
UID:8141992026-07-12 10:00:00+01:00achurchnearyou
CATEGORIES:
DESCRIPTION:Our main service\, using modern language\, with hymns and a se
 rmon\, and with a session for children/young people and their families.  T
 he Choir sometimes sings at this service.\nPlease note that you will need 
 to print your own order of service for Service of the Word if you are comi
 ng to Church (available via our website).
GEO:0.157041;51.870438
LOCATION:St Michael's
URL:https://www.achurchnearyou.com/church/7815/service-and-events/events/8
 14199/
END:VEVENT
BEGIN:VEVENT
SUMMARY:Sunday Parish Communion
DTSTART;TZID=Europe/London:20260726T100000
DTEND;TZID=Europe/London:20260726T110000
DTSTAMP:20260420T161721Z
UID:8141992026-07-26 10:00:00+01:00achurchnearyou
CATEGORIES:
DESCRIPTION:Our main service\, using modern language\, with hymns and a se
 rmon\, and with a session for children/young people and their families.  T
 he Choir sometimes sings at this service.\nPlease note that you will need 
 to print your own order of service for Service of the Word if you are comi
 ng to Church (available via our website).
GEO:0.157041;51.870438
LOCATION:St Michael's
URL:https://www.achurchnearyou.com/church/7815/service-and-events/events/8
 14199/
END:VEVENT
BEGIN:VEVENT
SUMMARY:Sunday Parish Communion
DTSTART;TZID=Europe/London:20260809T100000
DTEND;TZID=Europe/London:20260809T110000
DTSTAMP:20260420T161721Z
UID:8141992026-08-09 10:00:00+01:00achurchnearyou
CATEGORIES:
DESCRIPTION:Our main service\, using modern language\, with hymns and a se
 rmon\, and with a session for children/young people and their families.  T
 he Choir sometimes sings at this service.\nPlease note that you will need 
 to print your own order of service for Service of the Word if you are comi
 ng to Church (available via our website).
GEO:0.157041;51.870438
LOCATION:St Michael's
URL:https://www.achurchnearyou.com/church/7815/service-and-events/events/8
 14199/
END:VEVENT
BEGIN:VEVENT
SUMMARY:Sunday Parish Communion
DTSTART;TZID=Europe/London:20260823T100000
DTEND;TZID=Europe/London:20260823T110000
DTSTAMP:20260420T161721Z
UID:8141992026-08-23 10:00:00+01:00achurchnearyou
CATEGORIES:
DESCRIPTION:Our main service\, using modern language\, with hymns and a se
 rmon\, and with a session for children/young people and their families.  T
 he Choir sometimes sings at this service.\nPlease note that you will need 
 to print your own order of service for Service of the Word if you are comi
 ng to Church (available via our website).
GEO:0.157041;51.870438
LOCATION:St Michael's
URL:https://www.achurchnearyou.com/church/7815/service-and-events/events/8
 14199/
END:VEVENT
BEGIN:VEVENT
SUMMARY:Sunday Parish Communion
DTSTART;TZID=Europe/London:20260830T100000
DTEND;TZID=Europe/London:20260830T110000
DTSTAMP:20260420T161721Z
UID:8141992026-08-30 10:00:00+01:00achurchnearyou
CATEGORIES:
DESCRIPTION:Our main service\, using modern language\, with hymns and a se
 rmon\, and with a session for children/young people and their families.  T
 he Choir sometimes sings at this service.\nPlease note that you will need 
 to print your own order of service for Service of the Word if you are comi
 ng to Church (available via our website).
GEO:0.157041;51.870438
LOCATION:St Michael's
URL:https://www.achurchnearyou.com/church/7815/service-and-events/events/8
 14199/
END:VEVENT
BEGIN:VEVENT
SUMMARY:Sunday Parish Communion
DTSTART;TZID=Europe/London:20260913T100000
DTEND;TZID=Europe/London:20260913T110000
DTSTAMP:20260420T161721Z
UID:8141992026-09-13 10:00:00+01:00achurchnearyou
CATEGORIES:
DESCRIPTION:Our main service\, using modern language\, with hymns and a se
 rmon\, and with a session for children/young people and their families.  T
 he Choir sometimes sings at this service.\nPlease note that you will need 
 to print your own order of service for Service of the Word if you are comi
 ng to Church (available via our website).
GEO:0.157041;51.870438
LOCATION:St Michael's
URL:https://www.achurchnearyou.com/church/7815/service-and-events/events/8
 14199/
END:VEVENT
BEGIN:VEVENT
SUMMARY:Sunday Parish Communion
DTSTART;TZID=Europe/London:20260927T100000
DTEND;TZID=Europe/London:20260927T110000
DTSTAMP:20260420T161721Z
UID:8141992026-09-27 10:00:00+01:00achurchnearyou
CATEGORIES:
DESCRIPTION:Our main service\, using modern language\, with hymns and a se
 rmon\, and with a session for children/young people and their families.  T
 he Choir sometimes sings at this service.\nPlease note that you will need 
 to print your own order of service for Service of the Word if you are comi
 ng to Church (available via our website).
GEO:0.157041;51.870438
LOCATION:St Michael's
URL:https://www.achurchnearyou.com/church/7815/service-and-events/events/8
 14199/
END:VEVENT
BEGIN:VEVENT
SUMMARY:Sunday Parish Communion
DTSTART;TZID=Europe/London:20261011T100000
DTEND;TZID=Europe/London:20261011T110000
DTSTAMP:20260420T161721Z
UID:8141992026-10-11 10:00:00+01:00achurchnearyou
CATEGORIES:
DESCRIPTION:Our main service\, using modern language\, with hymns and a se
 rmon\, and with a session for children/young people and their families.  T
 he Choir sometimes sings at this service.\nPlease note that you will need 
 to print your own order of service for Service of the Word if you are comi
 ng to Church (available via our website).
GEO:0.157041;51.870438
LOCATION:St Michael's
URL:https://www.achurchnearyou.com/church/7815/service-and-events/events/8
 14199/
END:VEVENT
BEGIN:VEVENT
SUMMARY:Sunday Parish Communion
DTSTART;TZID=Europe/London:20261025T100000
DTEND;TZID=Europe/London:20261025T110000
DTSTAMP:20260420T161721Z
UID:8141992026-10-25 10:00:00+00:00achurchnearyou
CATEGORIES:
DESCRIPTION:Our main service\, using modern language\, with hymns and a se
 rmon\, and with a session for children/young people and their families.  T
 he Choir sometimes sings at this service.\nPlease note that you will need 
 to print your own order of service for Service of the Word if you are comi
 ng to Church (available via our website).
GEO:0.157041;51.870438
LOCATION:St Michael's
URL:https://www.achurchnearyou.com/church/7815/service-and-events/events/8
 14199/
END:VEVENT
BEGIN:VEVENT
SUMMARY:Sunday Parish Communion
DTSTART;TZID=Europe/London:20261108T100000
DTEND;TZID=Europe/London:20261108T110000
DTSTAMP:20260420T161721Z
UID:8141992026-11-08 10:00:00+00:00achurchnearyou
CATEGORIES:
DESCRIPTION:Our main service\, using modern language\, with hymns and a se
 rmon\, and with a session for children/young people and their families.  T
 he Choir sometimes sings at this service.\nPlease note that you will need 
 to print your own order of service for Service of the Word if you are comi
 ng to Church (available via our website).
GEO:0.157041;51.870438
LOCATION:St Michael's
URL:https://www.achurchnearyou.com/church/7815/service-and-events/events/8
 14199/
END:VEVENT
BEGIN:VEVENT
SUMMARY:Sunday Parish Communion
DTSTART;TZID=Europe/London:20261122T100000
DTEND;TZID=Europe/London:20261122T110000
DTSTAMP:20260420T161721Z
UID:8141992026-11-22 10:00:00+00:00achurchnearyou
CATEGORIES:
DESCRIPTION:Our main service\, using modern language\, with hymns and a se
 rmon\, and with a session for children/young people and their families.  T
 he Choir sometimes sings at this service.\nPlease note that you will need 
 to print your own order of service for Service of the Word if you are comi
 ng to Church (available via our website).
GEO:0.157041;51.870438
LOCATION:St Michael's
URL:https://www.achurchnearyou.com/church/7815/service-and-events/events/8
 14199/
END:VEVENT
BEGIN:VEVENT
SUMMARY:Sunday Parish Communion
DTSTART;TZID=Europe/London:20261129T100000
DTEND;TZID=Europe/London:20261129T110000
DTSTAMP:20260420T161721Z
UID:8141992026-11-29 10:00:00+00:00achurchnearyou
CATEGORIES:
DESCRIPTION:Our main service\, using modern language\, with hymns and a se
 rmon\, and with a session for children/young people and their families.  T
 he Choir sometimes sings at this service.\nPlease note that you will need 
 to print your own order of service for Service of the Word if you are comi
 ng to Church (available via our website).
GEO:0.157041;51.870438
LOCATION:St Michael's
URL:https://www.achurchnearyou.com/church/7815/service-and-events/events/8
 14199/
END:VEVENT
BEGIN:VEVENT
SUMMARY:Sunday Parish Communion
DTSTART;TZID=Europe/London:20261213T100000
DTEND;TZID=Europe/London:20261213T110000
DTSTAMP:20260420T161721Z
UID:8141992026-12-13 10:00:00+00:00achurchnearyou
CATEGORIES:
DESCRIPTION:Our main service\, using modern language\, with hymns and a se
 rmon\, and with a session for children/young people and their families.  T
 he Choir sometimes sings at this service.\nPlease note that you will need 
 to print your own order of service for Service of the Word if you are comi
 ng to Church (available via our website).
GEO:0.157041;51.870438
LOCATION:St Michael's
URL:https://www.achurchnearyou.com/church/7815/service-and-events/events/8
 14199/
END:VEVENT
BEGIN:VEVENT
SUMMARY:Sunday Parish Communion
DTSTART;TZID=Europe/London:20261227T100000
DTEND;TZID=Europe/London:20261227T110000
DTSTAMP:20260420T161721Z
UID:8141992026-12-27 10:00:00+00:00achurchnearyou
CATEGORIES:
DESCRIPTION:Our main service\, using modern language\, with hymns and a se
 rmon\, and with a session for children/young people and their families.  T
 he Choir sometimes sings at this service.\nPlease note that you will need 
 to print your own order of service for Service of the Word if you are comi
 ng to Church (available via our website).
GEO:0.157041;51.870438
LOCATION:St Michael's
URL:https://www.achurchnearyou.com/church/7815/service-and-events/events/8
 14199/
END:VEVENT
BEGIN:VEVENT
SUMMARY:Sunday Parish Communion
DTSTART;TZID=Europe/London:20270110T100000
DTEND;TZID=Europe/London:20270110T110000
DTSTAMP:20260420T161721Z
UID:8141992027-01-10 10:00:00+00:00achurchnearyou
CATEGORIES:
DESCRIPTION:Our main service\, using modern language\, with hymns and a se
 rmon\, and with a session for children/young people and their families.  T
 he Choir sometimes sings at this service.\nPlease note that you will need 
 to print your own order of service for Service of the Word if you are comi
 ng to Church (available via our website).
GEO:0.157041;51.870438
LOCATION:St Michael's
URL:https://www.achurchnearyou.com/church/7815/service-and-events/events/8
 14199/
END:VEVENT
BEGIN:VEVENT
SUMMARY:Sunday Parish Communion
DTSTART;TZID=Europe/London:20270124T100000
DTEND;TZID=Europe/London:20270124T110000
DTSTAMP:20260420T161721Z
UID:8141992027-01-24 10:00:00+00:00achurchnearyou
CATEGORIES:
DESCRIPTION:Our main service\, using modern language\, with hymns and a se
 rmon\, and with a session for children/young people and their families.  T
 he Choir sometimes sings at this service.\nPlease note that you will need 
 to print your own order of service for Service of the Word if you are comi
 ng to Church (available via our website).
GEO:0.157041;51.870438
LOCATION:St Michael's
URL:https://www.achurchnearyou.com/church/7815/service-and-events/events/8
 14199/
END:VEVENT
BEGIN:VEVENT
SUMMARY:Sunday Parish Communion
DTSTART;TZID=Europe/London:20270131T100000
DTEND;TZID=Europe/London:20270131T110000
DTSTAMP:20260420T161721Z
UID:8141992027-01-31 10:00:00+00:00achurchnearyou
CATEGORIES:
DESCRIPTION:Our main service\, using modern language\, with hymns and a se
 rmon\, and with a session for children/young people and their families.  T
 he Choir sometimes sings at this service.\nPlease note that you will need 
 to print your own order of service for Service of the Word if you are comi
 ng to Church (available via our website).
GEO:0.157041;51.870438
LOCATION:St Michael's
URL:https://www.achurchnearyou.com/church/7815/service-and-events/events/8
 14199/
END:VEVENT
BEGIN:VEVENT
SUMMARY:Sunday Parish Communion
DTSTART;TZID=Europe/London:20270214T100000
DTEND;TZID=Europe/London:20270214T110000
DTSTAMP:20260420T161721Z
UID:8141992027-02-14 10:00:00+00:00achurchnearyou
CATEGORIES:
DESCRIPTION:Our main service\, using modern language\, with hymns and a se
 rmon\, and with a session for children/young people and their families.  T
 he Choir sometimes sings at this service.\nPlease note that you will need 
 to print your own order of service for Service of the Word if you are comi
 ng to Church (available via our website).
GEO:0.157041;51.870438
LOCATION:St Michael's
URL:https://www.achurchnearyou.com/church/7815/service-and-events/events/8
 14199/
END:VEVENT
BEGIN:VEVENT
SUMMARY:Sunday Parish Communion
DTSTART;TZID=Europe/London:20270228T100000
DTEND;TZID=Europe/London:20270228T110000
DTSTAMP:20260420T161721Z
UID:8141992027-02-28 10:00:00+00:00achurchnearyou
CATEGORIES:
DESCRIPTION:Our main service\, using modern language\, with hymns and a se
 rmon\, and with a session for children/young people and their families.  T
 he Choir sometimes sings at this service.\nPlease note that you will need 
 to print your own order of service for Service of the Word if you are comi
 ng to Church (available via our website).
GEO:0.157041;51.870438
LOCATION:St Michael's
URL:https://www.achurchnearyou.com/church/7815/service-and-events/events/8
 14199/
END:VEVENT
BEGIN:VEVENT
SUMMARY:Sunday Parish Communion
DTSTART;TZID=Europe/London:20270314T100000
DTEND;TZID=Europe/London:20270314T110000
DTSTAMP:20260420T161721Z
UID:8141992027-03-14 10:00:00+00:00achurchnearyou
CATEGORIES:
DESCRIPTION:Our main service\, using modern language\, with hymns and a se
 rmon\, and with a session for children/young people and their families.  T
 he Choir sometimes sings at this service.\nPlease note that you will need 
 to print your own order of service for Service of the Word if you are comi
 ng to Church (available via our website).
GEO:0.157041;51.870438
LOCATION:St Michael's
URL:https://www.achurchnearyou.com/church/7815/service-and-events/events/8
 14199/
END:VEVENT
BEGIN:VEVENT
SUMMARY:Sunday Parish Communion
DTSTART;TZID=Europe/London:20270328T100000
DTEND;TZID=Europe/London:20270328T110000
DTSTAMP:20260420T161721Z
UID:8141992027-03-28 10:00:00+01:00achurchnearyou
CATEGORIES:
DESCRIPTION:Our main service\, using modern language\, with hymns and a se
 rmon\, and with a session for children/young people and their families.  T
 he Choir sometimes sings at this service.\nPlease note that you will need 
 to print your own order of service for Service of the Word if you are comi
 ng to Church (available via our website).
GEO:0.157041;51.870438
LOCATION:St Michael's
URL:https://www.achurchnearyou.com/church/7815/service-and-events/events/8
 14199/
END:VEVENT
BEGIN:VEVENT
SUMMARY:Sunday Parish Communion
DTSTART;TZID=Europe/London:20270411T100000
DTEND;TZID=Europe/London:20270411T110000
DTSTAMP:20260420T161721Z
UID:8141992027-04-11 10:00:00+01:00achurchnearyou
CATEGORIES:
DESCRIPTION:Our main service\, using modern language\, with hymns and a se
 rmon\, and with a session for children/young people and their families.  T
 he Choir sometimes sings at this service.\nPlease note that you will need 
 to print your own order of service for Service of the Word if you are comi
 ng to Church (available via our website).
GEO:0.157041;51.870438
LOCATION:St Michael's
URL:https://www.achurchnearyou.com/church/7815/service-and-events/events/8
 14199/
END:VEVENT
END:VCALENDAR
