BEGIN:VCALENDAR
VERSION:2.0
PRODID:-//achurchnearyou.com//eventfeed//EN
CALSCALE:GREGORIAN
METHOD:PUBLISH
X-WR-TIMEZONE:UTC
BEGIN:VEVENT
SUMMARY:Churches Together Service of the Word for Good Friday
DTSTART:20250418T090000Z
DTEND:20250418T100000Z
DTSTAMP:20260421T185831Z
UID:8142082025-04-18 09:00:00+00:00achurchnearyou
CATEGORIES:
DESCRIPTION:A Service of the Word for Good Friday\, with hymns\, Scripture
 s and choral music.\nAt the end of the service there will be our annual Wa
 lk of Witness through the town\, which ends at the Methodist Church.
GEO:0.157041;51.870438
LOCATION:St Michael's
URL:https://www.achurchnearyou.com/church/7815/service-and-events/events/8
 14208/
END:VEVENT
END:VCALENDAR
