BEGIN:VCALENDAR
VERSION:2.0
PRODID:-//achurchnearyou.com//eventfeed//EN
CALSCALE:GREGORIAN
METHOD:PUBLISH
X-WR-TIMEZONE:UTC
BEGIN:VEVENT
SUMMARY:Easter Sunday
DTSTART:20260405T083000Z
DTEND:20260405T094500Z
DTSTAMP:20260425T025222Z
UID:13017992026-04-05 08:30:00+00:00achurchnearyou
CATEGORIES:
DESCRIPTION:Informal Morning Worship followed by Easter Egg hunt
GEO:0.079948;51.931177
LOCATION:St Mary the Virgin Furneux Pelham
URL:https://www.achurchnearyou.com/church/7817/service-and-events/events/1
 301799/
END:VEVENT
END:VCALENDAR
