BEGIN:VCALENDAR
VERSION:2.0
PRODID:-//achurchnearyou.com//eventfeed//EN
CALSCALE:GREGORIAN
METHOD:PUBLISH
X-WR-TIMEZONE:UTC
BEGIN:VEVENT
SUMMARY:Puppets Carol Service
DTSTART:20251213T153000Z
DTEND:20251213T163000Z
DTSTAMP:20260419T183420Z
UID:12597642025-12-13 15:30:00+00:00achurchnearyou
CATEGORIES:
DESCRIPTION:Come and meet our friendly puppets from Puppets Galore who wil
 l lead us in an entertaining service of much-loved Christmas Carols. Suita
 ble for all ages!
GEO:0.16118;51.865866
LOCATION:Holy Trinity Bishop's Stortford
URL:https://www.achurchnearyou.com/church/7828/service-and-events/events/1
 259764/
END:VEVENT
END:VCALENDAR
