BEGIN:VCALENDAR
VERSION:2.0
PRODID:-//achurchnearyou.com//eventfeed//EN
CALSCALE:GREGORIAN
METHOD:PUBLISH
X-WR-TIMEZONE:UTC
BEGIN:VEVENT
SUMMARY:Peter’s Discipleship
DTSTART:20240407T090000Z
DTEND:20240407T094500Z
DTSTAMP:20260422T115735Z
UID:10620332024-04-07 09:00:00+00:00achurchnearyou
CATEGORIES:
DESCRIPTION:Jesus calls lots of people to follow him\, asking them to make
  a choice that echo his teaching and to care for others with compassion.\n
 \nCome a find out about Peters discipleship journey with us at this months
  family service plus take part in some crafty activities! \n\nDon’t forg
 et to practise the makaton Lords Prayer\, as well\, video of Cath attached
  to remind you!
GEO:0.120615;51.806354
LOCATION:St James The Great
URL:https://www.achurchnearyou.com/church/7829/service-and-events/events/1
 062033/
END:VEVENT
END:VCALENDAR
