BEGIN:VCALENDAR
VERSION:2.0
PRODID:-//achurchnearyou.com//eventfeed//EN
CALSCALE:GREGORIAN
METHOD:PUBLISH
X-WR-TIMEZONE:UTC
BEGIN:VEVENT
SUMMARY:Family Service
DTSTART;TZID=Europe/London:20241006T100000
DTEND;TZID=Europe/London:20241006T104500
DTSTAMP:20260422T083843Z
UID:10999442024-10-06 10:00:00+01:00achurchnearyou
CATEGORIES:
DESCRIPTION:Come and join us for some fun and games on the first Sunday of
  every month for our family service.\n\nDo join us for a free breakfast fr
 om 09:30!
GEO:0.120615;51.806354
LOCATION:St James The Great
URL:https://www.achurchnearyou.com/church/7829/service-and-events/events/1
 099944/
END:VEVENT
BEGIN:VEVENT
SUMMARY:Family Service
DTSTART;TZID=Europe/London:20241103T100000
DTEND;TZID=Europe/London:20241103T104500
DTSTAMP:20260422T083843Z
UID:10999442024-11-03 10:00:00+00:00achurchnearyou
CATEGORIES:
DESCRIPTION:Come and join us for some fun and games on the first Sunday of
  every month for our family service.\n\nDo join us for a free breakfast fr
 om 09:30!
GEO:0.120615;51.806354
LOCATION:St James The Great
URL:https://www.achurchnearyou.com/church/7829/service-and-events/events/1
 099944/
END:VEVENT
BEGIN:VEVENT
SUMMARY:Family Service
DTSTART;TZID=Europe/London:20241201T100000
DTEND;TZID=Europe/London:20241201T104500
DTSTAMP:20260422T083843Z
UID:10999442024-12-01 10:00:00+00:00achurchnearyou
CATEGORIES:
DESCRIPTION:Come and join us for some fun and games on the first Sunday of
  every month for our family service.\n\nDo join us for a free breakfast fr
 om 09:30!
GEO:0.120615;51.806354
LOCATION:St James The Great
URL:https://www.achurchnearyou.com/church/7829/service-and-events/events/1
 099944/
END:VEVENT
BEGIN:VEVENT
SUMMARY:Family Service
DTSTART;TZID=Europe/London:20250105T100000
DTEND;TZID=Europe/London:20250105T104500
DTSTAMP:20260422T083843Z
UID:10999442025-01-05 10:00:00+00:00achurchnearyou
CATEGORIES:
DESCRIPTION:Come and join us for some fun and games on the first Sunday of
  every month for our family service.\n\nDo join us for a free breakfast fr
 om 09:30!
GEO:0.120615;51.806354
LOCATION:St James The Great
URL:https://www.achurchnearyou.com/church/7829/service-and-events/events/1
 099944/
END:VEVENT
BEGIN:VEVENT
SUMMARY:Family Service
DTSTART;TZID=Europe/London:20250202T100000
DTEND;TZID=Europe/London:20250202T104500
DTSTAMP:20260422T083843Z
UID:10999442025-02-02 10:00:00+00:00achurchnearyou
CATEGORIES:
DESCRIPTION:Come and join us for some fun and games on the first Sunday of
  every month for our family service.\n\nDo join us for a free breakfast fr
 om 09:30!
GEO:0.120615;51.806354
LOCATION:St James The Great
URL:https://www.achurchnearyou.com/church/7829/service-and-events/events/1
 099944/
END:VEVENT
BEGIN:VEVENT
SUMMARY:Family Service
DTSTART;TZID=Europe/London:20250302T100000
DTEND;TZID=Europe/London:20250302T104500
DTSTAMP:20260422T083843Z
UID:10999442025-03-02 10:00:00+00:00achurchnearyou
CATEGORIES:
DESCRIPTION:Come and join us for some fun and games on the first Sunday of
  every month for our family service.\n\nDo join us for a free breakfast fr
 om 09:30!
GEO:0.120615;51.806354
LOCATION:St James The Great
URL:https://www.achurchnearyou.com/church/7829/service-and-events/events/1
 099944/
END:VEVENT
BEGIN:VEVENT
SUMMARY:Family Service
DTSTART;TZID=Europe/London:20250406T100000
DTEND;TZID=Europe/London:20250406T104500
DTSTAMP:20260422T083843Z
UID:10999442025-04-06 10:00:00+01:00achurchnearyou
CATEGORIES:
DESCRIPTION:Come and join us for some fun and games on the first Sunday of
  every month for our family service.\n\nDo join us for a free breakfast fr
 om 09:30!
GEO:0.120615;51.806354
LOCATION:St James The Great
URL:https://www.achurchnearyou.com/church/7829/service-and-events/events/1
 099944/
END:VEVENT
BEGIN:VEVENT
SUMMARY:Family Service
DTSTART;TZID=Europe/London:20250504T100000
DTEND;TZID=Europe/London:20250504T104500
DTSTAMP:20260422T083843Z
UID:10999442025-05-04 10:00:00+01:00achurchnearyou
CATEGORIES:
DESCRIPTION:Come and join us for some fun and games on the first Sunday of
  every month for our family service.\n\nDo join us for a free breakfast fr
 om 09:30!
GEO:0.120615;51.806354
LOCATION:St James The Great
URL:https://www.achurchnearyou.com/church/7829/service-and-events/events/1
 099944/
END:VEVENT
BEGIN:VEVENT
SUMMARY:Family Service
DTSTART;TZID=Europe/London:20250601T100000
DTEND;TZID=Europe/London:20250601T104500
DTSTAMP:20260422T083843Z
UID:10999442025-06-01 10:00:00+01:00achurchnearyou
CATEGORIES:
DESCRIPTION:Come and join us for some fun and games on the first Sunday of
  every month for our family service.\n\nDo join us for a free breakfast fr
 om 09:30!
GEO:0.120615;51.806354
LOCATION:St James The Great
URL:https://www.achurchnearyou.com/church/7829/service-and-events/events/1
 099944/
END:VEVENT
BEGIN:VEVENT
SUMMARY:Family Service
DTSTART;TZID=Europe/London:20250706T100000
DTEND;TZID=Europe/London:20250706T104500
DTSTAMP:20260422T083843Z
UID:10999442025-07-06 10:00:00+01:00achurchnearyou
CATEGORIES:
DESCRIPTION:Come and join us for some fun and games on the first Sunday of
  every month for our family service.\n\nDo join us for a free breakfast fr
 om 09:30!
GEO:0.120615;51.806354
LOCATION:St James The Great
URL:https://www.achurchnearyou.com/church/7829/service-and-events/events/1
 099944/
END:VEVENT
BEGIN:VEVENT
SUMMARY:Family Service
DTSTART;TZID=Europe/London:20250803T100000
DTEND;TZID=Europe/London:20250803T104500
DTSTAMP:20260422T083843Z
UID:10999442025-08-03 10:00:00+01:00achurchnearyou
CATEGORIES:
DESCRIPTION:Come and join us for some fun and games on the first Sunday of
  every month for our family service.\n\nDo join us for a free breakfast fr
 om 09:30!
GEO:0.120615;51.806354
LOCATION:St James The Great
URL:https://www.achurchnearyou.com/church/7829/service-and-events/events/1
 099944/
END:VEVENT
BEGIN:VEVENT
SUMMARY:Family Service
DTSTART;TZID=Europe/London:20250907T100000
DTEND;TZID=Europe/London:20250907T104500
DTSTAMP:20260422T083843Z
UID:10999442025-09-07 10:00:00+01:00achurchnearyou
CATEGORIES:
DESCRIPTION:Come and join us for some fun and games on the first Sunday of
  every month for our family service.\n\nDo join us for a free breakfast fr
 om 09:30!
GEO:0.120615;51.806354
LOCATION:St James The Great
URL:https://www.achurchnearyou.com/church/7829/service-and-events/events/1
 099944/
END:VEVENT
BEGIN:VEVENT
SUMMARY:Family Service
DTSTART;TZID=Europe/London:20251005T100000
DTEND;TZID=Europe/London:20251005T104500
DTSTAMP:20260422T083843Z
UID:10999442025-10-05 10:00:00+01:00achurchnearyou
CATEGORIES:
DESCRIPTION:Come and join us for some fun and games on the first Sunday of
  every month for our family service.\n\nDo join us for a free breakfast fr
 om 09:30!
GEO:0.120615;51.806354
LOCATION:St James The Great
URL:https://www.achurchnearyou.com/church/7829/service-and-events/events/1
 099944/
END:VEVENT
BEGIN:VEVENT
SUMMARY:Family Service
DTSTART;TZID=Europe/London:20251102T100000
DTEND;TZID=Europe/London:20251102T104500
DTSTAMP:20260422T083843Z
UID:10999442025-11-02 10:00:00+00:00achurchnearyou
CATEGORIES:
DESCRIPTION:Come and join us for some fun and games on the first Sunday of
  every month for our family service.\n\nDo join us for a free breakfast fr
 om 09:30!
GEO:0.120615;51.806354
LOCATION:St James The Great
URL:https://www.achurchnearyou.com/church/7829/service-and-events/events/1
 099944/
END:VEVENT
BEGIN:VEVENT
SUMMARY:Family Service
DTSTART;TZID=Europe/London:20251207T100000
DTEND;TZID=Europe/London:20251207T104500
DTSTAMP:20260422T083843Z
UID:10999442025-12-07 10:00:00+00:00achurchnearyou
CATEGORIES:
DESCRIPTION:Come and join us for some fun and games on the first Sunday of
  every month for our family service.\n\nDo join us for a free breakfast fr
 om 09:30!
GEO:0.120615;51.806354
LOCATION:St James The Great
URL:https://www.achurchnearyou.com/church/7829/service-and-events/events/1
 099944/
END:VEVENT
BEGIN:VEVENT
SUMMARY:Family Service
DTSTART;TZID=Europe/London:20260104T100000
DTEND;TZID=Europe/London:20260104T104500
DTSTAMP:20260422T083843Z
UID:10999442026-01-04 10:00:00+00:00achurchnearyou
CATEGORIES:
DESCRIPTION:Come and join us for some fun and games on the first Sunday of
  every month for our family service.\n\nDo join us for a free breakfast fr
 om 09:30!
GEO:0.120615;51.806354
LOCATION:St James The Great
URL:https://www.achurchnearyou.com/church/7829/service-and-events/events/1
 099944/
END:VEVENT
BEGIN:VEVENT
SUMMARY:Family Service
DTSTART;TZID=Europe/London:20260201T100000
DTEND;TZID=Europe/London:20260201T104500
DTSTAMP:20260422T083843Z
UID:10999442026-02-01 10:00:00+00:00achurchnearyou
CATEGORIES:
DESCRIPTION:Come and join us for some fun and games on the first Sunday of
  every month for our family service.\n\nDo join us for a free breakfast fr
 om 09:30!
GEO:0.120615;51.806354
LOCATION:St James The Great
URL:https://www.achurchnearyou.com/church/7829/service-and-events/events/1
 099944/
END:VEVENT
BEGIN:VEVENT
SUMMARY:Family Service
DTSTART;TZID=Europe/London:20260301T100000
DTEND;TZID=Europe/London:20260301T104500
DTSTAMP:20260422T083843Z
UID:10999442026-03-01 10:00:00+00:00achurchnearyou
CATEGORIES:
DESCRIPTION:Come and join us for some fun and games on the first Sunday of
  every month for our family service.\n\nDo join us for a free breakfast fr
 om 09:30!
GEO:0.120615;51.806354
LOCATION:St James The Great
URL:https://www.achurchnearyou.com/church/7829/service-and-events/events/1
 099944/
END:VEVENT
BEGIN:VEVENT
SUMMARY:Family Service
DTSTART;TZID=Europe/London:20260405T100000
DTEND;TZID=Europe/London:20260405T104500
DTSTAMP:20260422T083843Z
UID:10999442026-04-05 10:00:00+01:00achurchnearyou
CATEGORIES:
DESCRIPTION:Come and join us for some fun and games on the first Sunday of
  every month for our family service.\n\nDo join us for a free breakfast fr
 om 09:30!
GEO:0.120615;51.806354
LOCATION:St James The Great
URL:https://www.achurchnearyou.com/church/7829/service-and-events/events/1
 099944/
END:VEVENT
BEGIN:VEVENT
SUMMARY:Family Service
DTSTART;TZID=Europe/London:20260503T100000
DTEND;TZID=Europe/London:20260503T104500
DTSTAMP:20260422T083843Z
UID:10999442026-05-03 10:00:00+01:00achurchnearyou
CATEGORIES:
DESCRIPTION:Come and join us for some fun and games on the first Sunday of
  every month for our family service.\n\nDo join us for a free breakfast fr
 om 09:30!
GEO:0.120615;51.806354
LOCATION:St James The Great
URL:https://www.achurchnearyou.com/church/7829/service-and-events/events/1
 099944/
END:VEVENT
BEGIN:VEVENT
SUMMARY:Family Service
DTSTART;TZID=Europe/London:20260607T100000
DTEND;TZID=Europe/London:20260607T104500
DTSTAMP:20260422T083843Z
UID:10999442026-06-07 10:00:00+01:00achurchnearyou
CATEGORIES:
DESCRIPTION:Come and join us for some fun and games on the first Sunday of
  every month for our family service.\n\nDo join us for a free breakfast fr
 om 09:30!
GEO:0.120615;51.806354
LOCATION:St James The Great
URL:https://www.achurchnearyou.com/church/7829/service-and-events/events/1
 099944/
END:VEVENT
BEGIN:VEVENT
SUMMARY:Family Service
DTSTART;TZID=Europe/London:20260705T100000
DTEND;TZID=Europe/London:20260705T104500
DTSTAMP:20260422T083843Z
UID:10999442026-07-05 10:00:00+01:00achurchnearyou
CATEGORIES:
DESCRIPTION:Come and join us for some fun and games on the first Sunday of
  every month for our family service.\n\nDo join us for a free breakfast fr
 om 09:30!
GEO:0.120615;51.806354
LOCATION:St James The Great
URL:https://www.achurchnearyou.com/church/7829/service-and-events/events/1
 099944/
END:VEVENT
BEGIN:VEVENT
SUMMARY:Family Service
DTSTART;TZID=Europe/London:20260802T100000
DTEND;TZID=Europe/London:20260802T104500
DTSTAMP:20260422T083843Z
UID:10999442026-08-02 10:00:00+01:00achurchnearyou
CATEGORIES:
DESCRIPTION:Come and join us for some fun and games on the first Sunday of
  every month for our family service.\n\nDo join us for a free breakfast fr
 om 09:30!
GEO:0.120615;51.806354
LOCATION:St James The Great
URL:https://www.achurchnearyou.com/church/7829/service-and-events/events/1
 099944/
END:VEVENT
BEGIN:VEVENT
SUMMARY:Family Service
DTSTART;TZID=Europe/London:20260906T100000
DTEND;TZID=Europe/London:20260906T104500
DTSTAMP:20260422T083843Z
UID:10999442026-09-06 10:00:00+01:00achurchnearyou
CATEGORIES:
DESCRIPTION:Come and join us for some fun and games on the first Sunday of
  every month for our family service.\n\nDo join us for a free breakfast fr
 om 09:30!
GEO:0.120615;51.806354
LOCATION:St James The Great
URL:https://www.achurchnearyou.com/church/7829/service-and-events/events/1
 099944/
END:VEVENT
BEGIN:VEVENT
SUMMARY:Family Service
DTSTART;TZID=Europe/London:20261004T100000
DTEND;TZID=Europe/London:20261004T104500
DTSTAMP:20260422T083843Z
UID:10999442026-10-04 10:00:00+01:00achurchnearyou
CATEGORIES:
DESCRIPTION:Come and join us for some fun and games on the first Sunday of
  every month for our family service.\n\nDo join us for a free breakfast fr
 om 09:30!
GEO:0.120615;51.806354
LOCATION:St James The Great
URL:https://www.achurchnearyou.com/church/7829/service-and-events/events/1
 099944/
END:VEVENT
BEGIN:VEVENT
SUMMARY:Family Service
DTSTART;TZID=Europe/London:20261101T100000
DTEND;TZID=Europe/London:20261101T104500
DTSTAMP:20260422T083843Z
UID:10999442026-11-01 10:00:00+00:00achurchnearyou
CATEGORIES:
DESCRIPTION:Come and join us for some fun and games on the first Sunday of
  every month for our family service.\n\nDo join us for a free breakfast fr
 om 09:30!
GEO:0.120615;51.806354
LOCATION:St James The Great
URL:https://www.achurchnearyou.com/church/7829/service-and-events/events/1
 099944/
END:VEVENT
BEGIN:VEVENT
SUMMARY:Family Service
DTSTART;TZID=Europe/London:20261206T100000
DTEND;TZID=Europe/London:20261206T104500
DTSTAMP:20260422T083843Z
UID:10999442026-12-06 10:00:00+00:00achurchnearyou
CATEGORIES:
DESCRIPTION:Come and join us for some fun and games on the first Sunday of
  every month for our family service.\n\nDo join us for a free breakfast fr
 om 09:30!
GEO:0.120615;51.806354
LOCATION:St James The Great
URL:https://www.achurchnearyou.com/church/7829/service-and-events/events/1
 099944/
END:VEVENT
BEGIN:VEVENT
SUMMARY:Family Service
DTSTART;TZID=Europe/London:20270103T100000
DTEND;TZID=Europe/London:20270103T104500
DTSTAMP:20260422T083843Z
UID:10999442027-01-03 10:00:00+00:00achurchnearyou
CATEGORIES:
DESCRIPTION:Come and join us for some fun and games on the first Sunday of
  every month for our family service.\n\nDo join us for a free breakfast fr
 om 09:30!
GEO:0.120615;51.806354
LOCATION:St James The Great
URL:https://www.achurchnearyou.com/church/7829/service-and-events/events/1
 099944/
END:VEVENT
BEGIN:VEVENT
SUMMARY:Family Service
DTSTART;TZID=Europe/London:20270207T100000
DTEND;TZID=Europe/London:20270207T104500
DTSTAMP:20260422T083843Z
UID:10999442027-02-07 10:00:00+00:00achurchnearyou
CATEGORIES:
DESCRIPTION:Come and join us for some fun and games on the first Sunday of
  every month for our family service.\n\nDo join us for a free breakfast fr
 om 09:30!
GEO:0.120615;51.806354
LOCATION:St James The Great
URL:https://www.achurchnearyou.com/church/7829/service-and-events/events/1
 099944/
END:VEVENT
BEGIN:VEVENT
SUMMARY:Family Service
DTSTART;TZID=Europe/London:20270307T100000
DTEND;TZID=Europe/London:20270307T104500
DTSTAMP:20260422T083843Z
UID:10999442027-03-07 10:00:00+00:00achurchnearyou
CATEGORIES:
DESCRIPTION:Come and join us for some fun and games on the first Sunday of
  every month for our family service.\n\nDo join us for a free breakfast fr
 om 09:30!
GEO:0.120615;51.806354
LOCATION:St James The Great
URL:https://www.achurchnearyou.com/church/7829/service-and-events/events/1
 099944/
END:VEVENT
BEGIN:VEVENT
SUMMARY:Family Service
DTSTART;TZID=Europe/London:20270404T100000
DTEND;TZID=Europe/London:20270404T104500
DTSTAMP:20260422T083843Z
UID:10999442027-04-04 10:00:00+01:00achurchnearyou
CATEGORIES:
DESCRIPTION:Come and join us for some fun and games on the first Sunday of
  every month for our family service.\n\nDo join us for a free breakfast fr
 om 09:30!
GEO:0.120615;51.806354
LOCATION:St James The Great
URL:https://www.achurchnearyou.com/church/7829/service-and-events/events/1
 099944/
END:VEVENT
END:VCALENDAR
