BEGIN:VCALENDAR
VERSION:2.0
PRODID:-//achurchnearyou.com//eventfeed//EN
CALSCALE:GREGORIAN
METHOD:PUBLISH
X-WR-TIMEZONE:UTC
BEGIN:VEVENT
SUMMARY:Music Practice
DTSTART;TZID=Europe/London:20260517T104500
DTEND;TZID=Europe/London:20260517T114500
DTSTAMP:20260420T030028Z
UID:8020822026-05-17 10:45:00+01:00achurchnearyou
CATEGORIES:
DESCRIPTION:Music practice is held on the 3rd Sunday of every month\, afte
 r church\, and the Performance is generally for family service as well as 
 other services and events. All musicians of any level or age are welcome.
GEO:-0.099146;51.927012
LOCATION:Ardeley St Lawrence
URL:https://www.achurchnearyou.com/church/7832/service-and-events/events/8
 02082/
END:VEVENT
BEGIN:VEVENT
SUMMARY:Music Practice
DTSTART;TZID=Europe/London:20260621T104500
DTEND;TZID=Europe/London:20260621T114500
DTSTAMP:20260420T030028Z
UID:8020822026-06-21 10:45:00+01:00achurchnearyou
CATEGORIES:
DESCRIPTION:Music practice is held on the 3rd Sunday of every month\, afte
 r church\, and the Performance is generally for family service as well as 
 other services and events. All musicians of any level or age are welcome.
GEO:-0.099146;51.927012
LOCATION:Ardeley St Lawrence
URL:https://www.achurchnearyou.com/church/7832/service-and-events/events/8
 02082/
END:VEVENT
BEGIN:VEVENT
SUMMARY:Music Practice
DTSTART;TZID=Europe/London:20260719T104500
DTEND;TZID=Europe/London:20260719T114500
DTSTAMP:20260420T030028Z
UID:8020822026-07-19 10:45:00+01:00achurchnearyou
CATEGORIES:
DESCRIPTION:Music practice is held on the 3rd Sunday of every month\, afte
 r church\, and the Performance is generally for family service as well as 
 other services and events. All musicians of any level or age are welcome.
GEO:-0.099146;51.927012
LOCATION:Ardeley St Lawrence
URL:https://www.achurchnearyou.com/church/7832/service-and-events/events/8
 02082/
END:VEVENT
BEGIN:VEVENT
SUMMARY:Music Practice
DTSTART;TZID=Europe/London:20260816T104500
DTEND;TZID=Europe/London:20260816T114500
DTSTAMP:20260420T030028Z
UID:8020822026-08-16 10:45:00+01:00achurchnearyou
CATEGORIES:
DESCRIPTION:Music practice is held on the 3rd Sunday of every month\, afte
 r church\, and the Performance is generally for family service as well as 
 other services and events. All musicians of any level or age are welcome.
GEO:-0.099146;51.927012
LOCATION:Ardeley St Lawrence
URL:https://www.achurchnearyou.com/church/7832/service-and-events/events/8
 02082/
END:VEVENT
BEGIN:VEVENT
SUMMARY:Music Practice
DTSTART;TZID=Europe/London:20260920T104500
DTEND;TZID=Europe/London:20260920T114500
DTSTAMP:20260420T030028Z
UID:8020822026-09-20 10:45:00+01:00achurchnearyou
CATEGORIES:
DESCRIPTION:Music practice is held on the 3rd Sunday of every month\, afte
 r church\, and the Performance is generally for family service as well as 
 other services and events. All musicians of any level or age are welcome.
GEO:-0.099146;51.927012
LOCATION:Ardeley St Lawrence
URL:https://www.achurchnearyou.com/church/7832/service-and-events/events/8
 02082/
END:VEVENT
BEGIN:VEVENT
SUMMARY:Music Practice
DTSTART;TZID=Europe/London:20261018T104500
DTEND;TZID=Europe/London:20261018T114500
DTSTAMP:20260420T030028Z
UID:8020822026-10-18 10:45:00+01:00achurchnearyou
CATEGORIES:
DESCRIPTION:Music practice is held on the 3rd Sunday of every month\, afte
 r church\, and the Performance is generally for family service as well as 
 other services and events. All musicians of any level or age are welcome.
GEO:-0.099146;51.927012
LOCATION:Ardeley St Lawrence
URL:https://www.achurchnearyou.com/church/7832/service-and-events/events/8
 02082/
END:VEVENT
BEGIN:VEVENT
SUMMARY:Music Practice
DTSTART;TZID=Europe/London:20261115T104500
DTEND;TZID=Europe/London:20261115T114500
DTSTAMP:20260420T030028Z
UID:8020822026-11-15 10:45:00+00:00achurchnearyou
CATEGORIES:
DESCRIPTION:Music practice is held on the 3rd Sunday of every month\, afte
 r church\, and the Performance is generally for family service as well as 
 other services and events. All musicians of any level or age are welcome.
GEO:-0.099146;51.927012
LOCATION:Ardeley St Lawrence
URL:https://www.achurchnearyou.com/church/7832/service-and-events/events/8
 02082/
END:VEVENT
BEGIN:VEVENT
SUMMARY:Music Practice
DTSTART;TZID=Europe/London:20261220T104500
DTEND;TZID=Europe/London:20261220T114500
DTSTAMP:20260420T030028Z
UID:8020822026-12-20 10:45:00+00:00achurchnearyou
CATEGORIES:
DESCRIPTION:Music practice is held on the 3rd Sunday of every month\, afte
 r church\, and the Performance is generally for family service as well as 
 other services and events. All musicians of any level or age are welcome.
GEO:-0.099146;51.927012
LOCATION:Ardeley St Lawrence
URL:https://www.achurchnearyou.com/church/7832/service-and-events/events/8
 02082/
END:VEVENT
BEGIN:VEVENT
SUMMARY:Music Practice
DTSTART;TZID=Europe/London:20270117T104500
DTEND;TZID=Europe/London:20270117T114500
DTSTAMP:20260420T030028Z
UID:8020822027-01-17 10:45:00+00:00achurchnearyou
CATEGORIES:
DESCRIPTION:Music practice is held on the 3rd Sunday of every month\, afte
 r church\, and the Performance is generally for family service as well as 
 other services and events. All musicians of any level or age are welcome.
GEO:-0.099146;51.927012
LOCATION:Ardeley St Lawrence
URL:https://www.achurchnearyou.com/church/7832/service-and-events/events/8
 02082/
END:VEVENT
BEGIN:VEVENT
SUMMARY:Music Practice
DTSTART;TZID=Europe/London:20270221T104500
DTEND;TZID=Europe/London:20270221T114500
DTSTAMP:20260420T030028Z
UID:8020822027-02-21 10:45:00+00:00achurchnearyou
CATEGORIES:
DESCRIPTION:Music practice is held on the 3rd Sunday of every month\, afte
 r church\, and the Performance is generally for family service as well as 
 other services and events. All musicians of any level or age are welcome.
GEO:-0.099146;51.927012
LOCATION:Ardeley St Lawrence
URL:https://www.achurchnearyou.com/church/7832/service-and-events/events/8
 02082/
END:VEVENT
BEGIN:VEVENT
SUMMARY:Music Practice
DTSTART;TZID=Europe/London:20270321T104500
DTEND;TZID=Europe/London:20270321T114500
DTSTAMP:20260420T030028Z
UID:8020822027-03-21 10:45:00+00:00achurchnearyou
CATEGORIES:
DESCRIPTION:Music practice is held on the 3rd Sunday of every month\, afte
 r church\, and the Performance is generally for family service as well as 
 other services and events. All musicians of any level or age are welcome.
GEO:-0.099146;51.927012
LOCATION:Ardeley St Lawrence
URL:https://www.achurchnearyou.com/church/7832/service-and-events/events/8
 02082/
END:VEVENT
BEGIN:VEVENT
SUMMARY:Music Practice
DTSTART;TZID=Europe/London:20270418T104500
DTEND;TZID=Europe/London:20270418T114500
DTSTAMP:20260420T030028Z
UID:8020822027-04-18 10:45:00+01:00achurchnearyou
CATEGORIES:
DESCRIPTION:Music practice is held on the 3rd Sunday of every month\, afte
 r church\, and the Performance is generally for family service as well as 
 other services and events. All musicians of any level or age are welcome.
GEO:-0.099146;51.927012
LOCATION:Ardeley St Lawrence
URL:https://www.achurchnearyou.com/church/7832/service-and-events/events/8
 02082/
END:VEVENT
END:VCALENDAR
