BEGIN:VCALENDAR
VERSION:2.0
PRODID:-//achurchnearyou.com//eventfeed//EN
CALSCALE:GREGORIAN
METHOD:PUBLISH
X-WR-TIMEZONE:UTC
BEGIN:VEVENT
SUMMARY:Coffee & Cake Morning
DTSTART:20250628T090000Z
DTEND:20250628T113000Z
DTSTAMP:20260419T191902Z
UID:11607502025-06-28 09:00:00+00:00achurchnearyou
CATEGORIES:
DESCRIPTION:Join us for a coffee and some delicious cake at St Mary's. The
 re will be a raffle and plants for sale to. All donations will go towards 
 the upkeep of our beautiful church.
GEO:-0.032385;51.937634
LOCATION:St Mary's\, Aspenden
URL:https://www.achurchnearyou.com/church/7834/service-and-events/events/1
 160750/
END:VEVENT
END:VCALENDAR
