BEGIN:VCALENDAR
VERSION:2.0
PRODID:-//achurchnearyou.com//eventfeed//EN
CALSCALE:GREGORIAN
METHOD:PUBLISH
X-WR-TIMEZONE:UTC
BEGIN:VEVENT
SUMMARY:Layston First School Nativity Service
DTSTART:20251216T093000Z
DTEND:20251216T103000Z
DTSTAMP:20260422T072618Z
UID:12315572025-12-16 09:30:00+00:00achurchnearyou
CATEGORIES:
DESCRIPTION:We are delighted to welcome the staff and students of Layston 
 First School for the Christmas Nativity service as told by the Reception c
 hildren. \nPlease note\, there is only capacity for those with tickets iss
 ued by the school.
GEO:-0.018337;51.945462
LOCATION:St Peter's\, Buntingford
URL:https://www.achurchnearyou.com/church/7839/service-and-events/events/1
 231557/
END:VEVENT
END:VCALENDAR
