BEGIN:VCALENDAR
VERSION:2.0
PRODID:-//achurchnearyou.com//eventfeed//EN
CALSCALE:GREGORIAN
METHOD:PUBLISH
X-WR-TIMEZONE:UTC
BEGIN:VEVENT
SUMMARY:Edwinstree Middle School Christingle Service
DTSTART:20251204T140000Z
DTEND:20251204T150000Z
DTSTAMP:20260422T071920Z
UID:12450982025-12-04 14:00:00+00:00achurchnearyou
CATEGORIES:
DESCRIPTION:We are delighted to invite Year 5 to celebrate a Christingle s
 ervice at St Peter's. \nThe orange\, candle\, sweets and the red ribbon- t
 hey'll explore the Christian journey of faith through these elements. Yum\
 , yum!\nPlease note this service is for students and staff only.
GEO:-0.018337;51.945462
LOCATION:St Peter's\, Buntingford
URL:https://www.achurchnearyou.com/church/7839/service-and-events/events/1
 245098/
END:VEVENT
END:VCALENDAR
