BEGIN:VCALENDAR
VERSION:2.0
PRODID:-//achurchnearyou.com//eventfeed//EN
CALSCALE:GREGORIAN
METHOD:PUBLISH
X-WR-TIMEZONE:UTC
BEGIN:VEVENT
SUMMARY:Mothering Sunday
DTSTART:20260315T110000Z
DTEND:20260315T120000Z
DTSTAMP:20260422T013041Z
UID:12911242026-03-15 11:00:00+00:00achurchnearyou
CATEGORIES:
DESCRIPTION:You are welcome to join us for a special Mothering Sunday serv
 ice. There will be a Holy Communion too.
GEO:-0.018337;51.945462
LOCATION:St Peter's\, Buntingford
URL:https://www.achurchnearyou.com/church/7839/service-and-events/events/1
 291124/
END:VEVENT
END:VCALENDAR
