BEGIN:VCALENDAR
VERSION:2.0
PRODID:-//achurchnearyou.com//eventfeed//EN
CALSCALE:GREGORIAN
METHOD:PUBLISH
X-WR-TIMEZONE:UTC
BEGIN:VEVENT
SUMMARY:Taizé Service
DTSTART:20260331T180000Z
DTEND:20260331T190000Z
DTSTAMP:20260421T232903Z
UID:12925002026-03-31 18:00:00+00:00achurchnearyou
CATEGORIES:
DESCRIPTION:A Taizé service is a meditative\, ecumenical Christian prayer
  service originating from the Taizé Community in France. It features simp
 le\, repetitive chants (often in different languages)\, candlelit settings
 \, scripture readings\, and periods of silence for reflection.
GEO:-0.018337;51.945462
LOCATION:St Peter's\, Buntingford
URL:https://www.achurchnearyou.com/church/7839/service-and-events/events/1
 292500/
END:VEVENT
END:VCALENDAR
