BEGIN:VCALENDAR
VERSION:2.0
PRODID:-//achurchnearyou.com//eventfeed//EN
CALSCALE:GREGORIAN
METHOD:PUBLISH
X-WR-TIMEZONE:UTC
BEGIN:VEVENT
SUMMARY:Freman College visit to St Peter's
DTSTART:20260327T143000Z
DTEND:20260327T153000Z
DTSTAMP:20260422T013041Z
UID:13013362026-03-27 14:30:00+00:00achurchnearyou
CATEGORIES:
DESCRIPTION:Students form Freman College are visiting St Peter's. Year 12 
 are studying the English Reformation under Henry VIII and are looking insi
 de the church to enhance their learning.
GEO:-0.018337;51.945462
LOCATION:St Peter's\, Buntingford
URL:https://www.achurchnearyou.com/church/7839/service-and-events/events/1
 301336/
END:VEVENT
END:VCALENDAR
