BEGIN:VCALENDAR
VERSION:2.0
PRODID:-//achurchnearyou.com//eventfeed//EN
CALSCALE:GREGORIAN
METHOD:PUBLISH
X-WR-TIMEZONE:UTC
BEGIN:VEVENT
SUMMARY:Morning Worship
DTSTART;TZID=Europe/London:20260426T110000
DTEND;TZID=Europe/London:20260426T121500
DTSTAMP:20260421T194251Z
UID:8705302026-04-26 11:00:00+01:00achurchnearyou
CATEGORIES:
DESCRIPTION:We gather to listen to bible readings and a sermon by one of t
 he clergy team\, singing contemporary songs and traditional hymns and pray
 ers. \nOur children go to the Upper Room for Kids Church during the servic
 e and join us later to share what they have been learning too. \nAll are w
 elcome and we always serve refreshments after the service-do stay for a co
 ffee and a chat. \nWe don't have a communion in this service so if you wou
 ld like to receive communion\, please check our services in the churches i
 n our benefice at Aspenden and Westmill.
LOCATION:Edwinstree Middle School
URL:https://www.achurchnearyou.com/church/7839/service-and-events/events/8
 70530/
END:VEVENT
BEGIN:VEVENT
SUMMARY:Morning Worship
DTSTART;TZID=Europe/London:20260524T110000
DTEND;TZID=Europe/London:20260524T121500
DTSTAMP:20260421T194251Z
UID:8705302026-05-24 11:00:00+01:00achurchnearyou
CATEGORIES:
DESCRIPTION:We gather to listen to bible readings and a sermon by one of t
 he clergy team\, singing contemporary songs and traditional hymns and pray
 ers. \nOur children go to the Upper Room for Kids Church during the servic
 e and join us later to share what they have been learning too. \nAll are w
 elcome and we always serve refreshments after the service-do stay for a co
 ffee and a chat. \nWe don't have a communion in this service so if you wou
 ld like to receive communion\, please check our services in the churches i
 n our benefice at Aspenden and Westmill.
LOCATION:Edwinstree Middle School
URL:https://www.achurchnearyou.com/church/7839/service-and-events/events/8
 70530/
END:VEVENT
BEGIN:VEVENT
SUMMARY:Morning Worship
DTSTART;TZID=Europe/London:20260628T110000
DTEND;TZID=Europe/London:20260628T121500
DTSTAMP:20260421T194251Z
UID:8705302026-06-28 11:00:00+01:00achurchnearyou
CATEGORIES:
DESCRIPTION:We gather to listen to bible readings and a sermon by one of t
 he clergy team\, singing contemporary songs and traditional hymns and pray
 ers. \nOur children go to the Upper Room for Kids Church during the servic
 e and join us later to share what they have been learning too. \nAll are w
 elcome and we always serve refreshments after the service-do stay for a co
 ffee and a chat. \nWe don't have a communion in this service so if you wou
 ld like to receive communion\, please check our services in the churches i
 n our benefice at Aspenden and Westmill.
LOCATION:Edwinstree Middle School
URL:https://www.achurchnearyou.com/church/7839/service-and-events/events/8
 70530/
END:VEVENT
BEGIN:VEVENT
SUMMARY:Morning Worship
DTSTART;TZID=Europe/London:20260726T110000
DTEND;TZID=Europe/London:20260726T121500
DTSTAMP:20260421T194251Z
UID:8705302026-07-26 11:00:00+01:00achurchnearyou
CATEGORIES:
DESCRIPTION:We gather to listen to bible readings and a sermon by one of t
 he clergy team\, singing contemporary songs and traditional hymns and pray
 ers. \nOur children go to the Upper Room for Kids Church during the servic
 e and join us later to share what they have been learning too. \nAll are w
 elcome and we always serve refreshments after the service-do stay for a co
 ffee and a chat. \nWe don't have a communion in this service so if you wou
 ld like to receive communion\, please check our services in the churches i
 n our benefice at Aspenden and Westmill.
LOCATION:Edwinstree Middle School
URL:https://www.achurchnearyou.com/church/7839/service-and-events/events/8
 70530/
END:VEVENT
BEGIN:VEVENT
SUMMARY:Morning Worship
DTSTART;TZID=Europe/London:20260823T110000
DTEND;TZID=Europe/London:20260823T121500
DTSTAMP:20260421T194251Z
UID:8705302026-08-23 11:00:00+01:00achurchnearyou
CATEGORIES:
DESCRIPTION:We gather to listen to bible readings and a sermon by one of t
 he clergy team\, singing contemporary songs and traditional hymns and pray
 ers. \nOur children go to the Upper Room for Kids Church during the servic
 e and join us later to share what they have been learning too. \nAll are w
 elcome and we always serve refreshments after the service-do stay for a co
 ffee and a chat. \nWe don't have a communion in this service so if you wou
 ld like to receive communion\, please check our services in the churches i
 n our benefice at Aspenden and Westmill.
LOCATION:Edwinstree Middle School
URL:https://www.achurchnearyou.com/church/7839/service-and-events/events/8
 70530/
END:VEVENT
BEGIN:VEVENT
SUMMARY:Morning Worship
DTSTART;TZID=Europe/London:20260927T110000
DTEND;TZID=Europe/London:20260927T121500
DTSTAMP:20260421T194251Z
UID:8705302026-09-27 11:00:00+01:00achurchnearyou
CATEGORIES:
DESCRIPTION:We gather to listen to bible readings and a sermon by one of t
 he clergy team\, singing contemporary songs and traditional hymns and pray
 ers. \nOur children go to the Upper Room for Kids Church during the servic
 e and join us later to share what they have been learning too. \nAll are w
 elcome and we always serve refreshments after the service-do stay for a co
 ffee and a chat. \nWe don't have a communion in this service so if you wou
 ld like to receive communion\, please check our services in the churches i
 n our benefice at Aspenden and Westmill.
LOCATION:Edwinstree Middle School
URL:https://www.achurchnearyou.com/church/7839/service-and-events/events/8
 70530/
END:VEVENT
BEGIN:VEVENT
SUMMARY:Morning Worship
DTSTART;TZID=Europe/London:20261025T110000
DTEND;TZID=Europe/London:20261025T121500
DTSTAMP:20260421T194251Z
UID:8705302026-10-25 11:00:00+00:00achurchnearyou
CATEGORIES:
DESCRIPTION:We gather to listen to bible readings and a sermon by one of t
 he clergy team\, singing contemporary songs and traditional hymns and pray
 ers. \nOur children go to the Upper Room for Kids Church during the servic
 e and join us later to share what they have been learning too. \nAll are w
 elcome and we always serve refreshments after the service-do stay for a co
 ffee and a chat. \nWe don't have a communion in this service so if you wou
 ld like to receive communion\, please check our services in the churches i
 n our benefice at Aspenden and Westmill.
LOCATION:Edwinstree Middle School
URL:https://www.achurchnearyou.com/church/7839/service-and-events/events/8
 70530/
END:VEVENT
BEGIN:VEVENT
SUMMARY:Morning Worship
DTSTART;TZID=Europe/London:20261122T110000
DTEND;TZID=Europe/London:20261122T121500
DTSTAMP:20260421T194251Z
UID:8705302026-11-22 11:00:00+00:00achurchnearyou
CATEGORIES:
DESCRIPTION:We gather to listen to bible readings and a sermon by one of t
 he clergy team\, singing contemporary songs and traditional hymns and pray
 ers. \nOur children go to the Upper Room for Kids Church during the servic
 e and join us later to share what they have been learning too. \nAll are w
 elcome and we always serve refreshments after the service-do stay for a co
 ffee and a chat. \nWe don't have a communion in this service so if you wou
 ld like to receive communion\, please check our services in the churches i
 n our benefice at Aspenden and Westmill.
LOCATION:Edwinstree Middle School
URL:https://www.achurchnearyou.com/church/7839/service-and-events/events/8
 70530/
END:VEVENT
BEGIN:VEVENT
SUMMARY:Morning Worship
DTSTART;TZID=Europe/London:20261227T110000
DTEND;TZID=Europe/London:20261227T121500
DTSTAMP:20260421T194251Z
UID:8705302026-12-27 11:00:00+00:00achurchnearyou
CATEGORIES:
DESCRIPTION:We gather to listen to bible readings and a sermon by one of t
 he clergy team\, singing contemporary songs and traditional hymns and pray
 ers. \nOur children go to the Upper Room for Kids Church during the servic
 e and join us later to share what they have been learning too. \nAll are w
 elcome and we always serve refreshments after the service-do stay for a co
 ffee and a chat. \nWe don't have a communion in this service so if you wou
 ld like to receive communion\, please check our services in the churches i
 n our benefice at Aspenden and Westmill.
LOCATION:Edwinstree Middle School
URL:https://www.achurchnearyou.com/church/7839/service-and-events/events/8
 70530/
END:VEVENT
BEGIN:VEVENT
SUMMARY:Morning Worship
DTSTART;TZID=Europe/London:20270124T110000
DTEND;TZID=Europe/London:20270124T121500
DTSTAMP:20260421T194251Z
UID:8705302027-01-24 11:00:00+00:00achurchnearyou
CATEGORIES:
DESCRIPTION:We gather to listen to bible readings and a sermon by one of t
 he clergy team\, singing contemporary songs and traditional hymns and pray
 ers. \nOur children go to the Upper Room for Kids Church during the servic
 e and join us later to share what they have been learning too. \nAll are w
 elcome and we always serve refreshments after the service-do stay for a co
 ffee and a chat. \nWe don't have a communion in this service so if you wou
 ld like to receive communion\, please check our services in the churches i
 n our benefice at Aspenden and Westmill.
LOCATION:Edwinstree Middle School
URL:https://www.achurchnearyou.com/church/7839/service-and-events/events/8
 70530/
END:VEVENT
BEGIN:VEVENT
SUMMARY:Morning Worship
DTSTART;TZID=Europe/London:20270228T110000
DTEND;TZID=Europe/London:20270228T121500
DTSTAMP:20260421T194251Z
UID:8705302027-02-28 11:00:00+00:00achurchnearyou
CATEGORIES:
DESCRIPTION:We gather to listen to bible readings and a sermon by one of t
 he clergy team\, singing contemporary songs and traditional hymns and pray
 ers. \nOur children go to the Upper Room for Kids Church during the servic
 e and join us later to share what they have been learning too. \nAll are w
 elcome and we always serve refreshments after the service-do stay for a co
 ffee and a chat. \nWe don't have a communion in this service so if you wou
 ld like to receive communion\, please check our services in the churches i
 n our benefice at Aspenden and Westmill.
LOCATION:Edwinstree Middle School
URL:https://www.achurchnearyou.com/church/7839/service-and-events/events/8
 70530/
END:VEVENT
BEGIN:VEVENT
SUMMARY:Morning Worship
DTSTART;TZID=Europe/London:20270328T110000
DTEND;TZID=Europe/London:20270328T121500
DTSTAMP:20260421T194251Z
UID:8705302027-03-28 11:00:00+01:00achurchnearyou
CATEGORIES:
DESCRIPTION:We gather to listen to bible readings and a sermon by one of t
 he clergy team\, singing contemporary songs and traditional hymns and pray
 ers. \nOur children go to the Upper Room for Kids Church during the servic
 e and join us later to share what they have been learning too. \nAll are w
 elcome and we always serve refreshments after the service-do stay for a co
 ffee and a chat. \nWe don't have a communion in this service so if you wou
 ld like to receive communion\, please check our services in the churches i
 n our benefice at Aspenden and Westmill.
LOCATION:Edwinstree Middle School
URL:https://www.achurchnearyou.com/church/7839/service-and-events/events/8
 70530/
END:VEVENT
END:VCALENDAR
