BEGIN:VCALENDAR
VERSION:2.0
PRODID:-//achurchnearyou.com//eventfeed//EN
CALSCALE:GREGORIAN
METHOD:PUBLISH
X-WR-TIMEZONE:UTC
BEGIN:VEVENT
SUMMARY:Cake and Carols
DTSTART:20251220T160000Z
DTEND:20251220T170000Z
DTSTAMP:20260422T071910Z
UID:9757152025-12-20 16:00:00+00:00achurchnearyou
CATEGORIES:
DESCRIPTION:A festive service singing our favourite Christmas carols\, the
 re'll be a poem or two and some festive readings as well. Do come along fo
 r this informal carol service. Refreshments including plenty of cake\, wil
 l be served after the service.
GEO:-0.018337;51.945462
LOCATION:St Peter's\, Buntingford
URL:https://www.achurchnearyou.com/church/7839/service-and-events/events/9
 75715/
END:VEVENT
END:VCALENDAR
