BEGIN:VCALENDAR
VERSION:2.0
PRODID:-//achurchnearyou.com//eventfeed//EN
CALSCALE:GREGORIAN
METHOD:PUBLISH
X-WR-TIMEZONE:UTC
BEGIN:VEVENT
SUMMARY:Summer Fete
DTSTART:20250809T090000Z
DTEND:20250809T113000Z
DTSTAMP:20260422T025549Z
UID:10759972025-08-09 09:00:00+00:00achurchnearyou
CATEGORIES:
DESCRIPTION:Join us for our Summer Fete. Weather permitting\, it will be i
 n the church yard\, if not\, we'll be dry in the church! There will be Sta
 lls\, Raffle\, Cakes and Refreshments.\n10am to 12pm
GEO:-0.010487;51.925547
LOCATION:St Mary the Virgin
URL:https://www.achurchnearyou.com/church/7851/service-and-events/events/1
 075997/
END:VEVENT
END:VCALENDAR
