BEGIN:VCALENDAR
VERSION:2.0
PRODID:-//achurchnearyou.com//eventfeed//EN
CALSCALE:GREGORIAN
METHOD:PUBLISH
X-WR-TIMEZONE:UTC
BEGIN:VEVENT
SUMMARY:Haileybury School Concert
DTSTART:20250925T183000Z
DTEND:20250925T200000Z
DTSTAMP:20260422T005826Z
UID:11501572025-09-25 18:30:00+00:00achurchnearyou
CATEGORIES:
DESCRIPTION:We are delighted to be welcoming students from Haileybury Scho
 ol back to Westmill for another musical evening. The exact time will be co
 nfirmed in due course.
GEO:-0.010487;51.925547
LOCATION:St Mary the Virgin
URL:https://www.achurchnearyou.com/church/7851/service-and-events/events/1
 150157/
END:VEVENT
END:VCALENDAR
