BEGIN:VCALENDAR
VERSION:2.0
PRODID:-//achurchnearyou.com//eventfeed//EN
CALSCALE:GREGORIAN
METHOD:PUBLISH
X-WR-TIMEZONE:UTC
BEGIN:VEVENT
SUMMARY:Church Yard Autumn Tidy
DTSTART:20251011T090000Z
DTEND:20251011T110000Z
DTSTAMP:20260421T225510Z
UID:12304232025-10-11 09:00:00+00:00achurchnearyou
CATEGORIES:
DESCRIPTION:We'd appreciate your help to tidy our church yard ready for wi
 nter. Please bring along your gardening tools and gloves and we'll provide
  the refreshments.
GEO:-0.010487;51.925547
LOCATION:St Mary the Virgin
URL:https://www.achurchnearyou.com/church/7851/service-and-events/events/1
 230423/
END:VEVENT
END:VCALENDAR
