BEGIN:VCALENDAR
VERSION:2.0
PRODID:-//achurchnearyou.com//eventfeed//EN
CALSCALE:GREGORIAN
METHOD:PUBLISH
X-WR-TIMEZONE:UTC
BEGIN:VEVENT
SUMMARY:Wedding
DTSTART:20260731T110000Z
DTEND:20260731T140000Z
DTSTAMP:20260421T094642Z
UID:12860342026-07-31 11:00:00+00:00achurchnearyou
CATEGORIES:
DESCRIPTION:There will be a wedding held at St Mary the Virgin on Friday 3
 1st July. The church will not be available for any other access between 12
  noon -3pm.
GEO:-0.010487;51.925547
LOCATION:St Mary the Virgin
URL:https://www.achurchnearyou.com/church/7851/service-and-events/events/1
 286034/
END:VEVENT
END:VCALENDAR
