BEGIN:VCALENDAR
VERSION:2.0
PRODID:-//achurchnearyou.com//eventfeed//EN
CALSCALE:GREGORIAN
METHOD:PUBLISH
X-WR-TIMEZONE:UTC
BEGIN:VEVENT
SUMMARY:Good Friday Hour at the Cross
DTSTART:20250418T130000Z
DTEND:20250418T140000Z
DTSTAMP:20260422T123529Z
UID:9140852025-04-18 13:00:00+00:00achurchnearyou
CATEGORIES:
DESCRIPTION:A quiet time of reflection and contemplation at the cross.
GEO:-0.010487;51.925547
LOCATION:St Mary the Virgin
URL:https://www.achurchnearyou.com/church/7851/service-and-events/events/9
 14085/
END:VEVENT
END:VCALENDAR
