BEGIN:VCALENDAR
VERSION:2.0
PRODID:-//achurchnearyou.com//eventfeed//EN
CALSCALE:GREGORIAN
METHOD:PUBLISH
X-WR-TIMEZONE:UTC
BEGIN:VEVENT
SUMMARY:Celebration Service
DTSTART:20251225T100000Z
DTEND:20251225T110000Z
DTSTAMP:20260421T123425Z
UID:7908562025-12-25 10:00:00+00:00achurchnearyou
CATEGORIES:
DESCRIPTION:Celebration Eucharist. A service of praise and thanksgiving fo
 r all ages. Bring along a Christmas present to show everyone.
GEO:-0.02745;51.715889
LOCATION:St Clements Church Turnford
URL:https://www.achurchnearyou.com/church/7855/service-and-events/events/7
 90856/
END:VEVENT
END:VCALENDAR
