BEGIN:VCALENDAR
VERSION:2.0
PRODID:-//achurchnearyou.com//eventfeed//EN
CALSCALE:GREGORIAN
METHOD:PUBLISH
X-WR-TIMEZONE:UTC
BEGIN:VEVENT
SUMMARY:Good Friday - A Service Of Reflection
DTSTART:20260403T130000Z
DTEND:20260403T140000Z
DTSTAMP:20260423T103752Z
UID:11760182026-04-03 13:00:00+00:00achurchnearyou
CATEGORIES:
DESCRIPTION:Join us from 14.00 to 15.00 for an hour of reflection at the c
 ross.
GEO:-0.011948;51.762553
LOCATION:St Catherine & St Paul - The Church Opposite Morrison's
URL:https://www.hoddesdonparishchurch.com
END:VEVENT
END:VCALENDAR
