BEGIN:VCALENDAR
VERSION:2.0
PRODID:-//achurchnearyou.com//eventfeed//EN
CALSCALE:GREGORIAN
METHOD:PUBLISH
X-WR-TIMEZONE:UTC
BEGIN:VEVENT
SUMMARY:Mothering Sunday Invitation
DTSTART:20260315T103000Z
DTEND:20260315T113000Z
DTSTAMP:20260423T223555Z
UID:5641962026-03-15 10:30:00+00:00achurchnearyou
CATEGORIES:
DESCRIPTION:Sunday 15 March 2026 - 10.30 am - All welcome to celebrate Mot
 hering Sunday with a service of Holy Communion.   Refreshments will be ser
 ved after the service.
GEO:-0.011948;51.762553
LOCATION:St Catherine & St Paul - The Church Opposite Morrison's
URL:https://www.hoddesdonparishchurch.org.uk
END:VEVENT
END:VCALENDAR
