BEGIN:VCALENDAR
VERSION:2.0
PRODID:-//achurchnearyou.com//eventfeed//EN
CALSCALE:GREGORIAN
METHOD:PUBLISH
X-WR-TIMEZONE:UTC
BEGIN:VEVENT
SUMMARY:Mass on Christmas Day
DTSTART:20251225T100000Z
DTEND:20251225T110000Z
DTSTAMP:20260421T123425Z
UID:12602322025-12-25 10:00:00+00:00achurchnearyou
CATEGORIES:
DESCRIPTION:Join us as we celebrate the birth of Jesus!  Prosecco will be 
 served after Mass as we joyfully celebrate this Holy Day.
GEO:-0.033771;51.692177
LOCATION:Christ Church\, Waltham Cross
URL:https://www.achurchnearyou.com/church/7861/service-and-events/events/1
 260232/
END:VEVENT
END:VCALENDAR
