BEGIN:VCALENDAR
VERSION:2.0
PRODID:-//achurchnearyou.com//eventfeed//EN
CALSCALE:GREGORIAN
METHOD:PUBLISH
X-WR-TIMEZONE:UTC
BEGIN:VEVENT
SUMMARY:Good Friday- Children's Activities
DTSTART:20260403T080000Z
DTEND:20260403T094500Z
DTSTAMP:20260421T050203Z
UID:13186202026-04-03 08:00:00+00:00achurchnearyou
CATEGORIES:
DESCRIPTION:n Good Friday (3rd April 2026)\, between 09:00 and 11:00\, we 
 will be hosting a morning of children’s activities as we remember Jesus
 ’ death on the cross and look ahead to the joy and hope of the Resurrect
 ion on Easter Day.\n\nThe morning will include arts and crafts\, where chi
 ldren can make an Easter Garden while hearing the story behind it. There w
 ill also be tea\, coffee\, and hot cross buns available for both children 
 and adults.\n\nPlease feel free to drop in at any point — you are all mo
 st welcome.
GEO:-0.033771;51.692177
LOCATION:Christ Church\, Waltham Cross
URL:https://www.achurchnearyou.com/church/7861/service-and-events/events/1
 318620/
END:VEVENT
END:VCALENDAR
