BEGIN:VCALENDAR
VERSION:2.0
PRODID:-//achurchnearyou.com//eventfeed//EN
CALSCALE:GREGORIAN
METHOD:PUBLISH
X-WR-TIMEZONE:UTC
BEGIN:VEVENT
SUMMARY:Annual Toy Service
DTSTART:20251102T093000Z
DTEND:20251102T103000Z
DTSTAMP:20260424T014755Z
UID:12377802025-11-02 09:30:00+00:00achurchnearyou
CATEGORIES:
DESCRIPTION:All are welcome at this family-friendly shorter communion serv
 ice where toys (new or in v good condition) are donated for less fortunate
  children in time for Christmas.
GEO:-0.039167;51.73449
LOCATION:St Laurence Church\, Wormley
URL:http://www.stlaurencewormley.org.uk
END:VEVENT
END:VCALENDAR
