BEGIN:VCALENDAR
VERSION:2.0
PRODID:-//achurchnearyou.com//eventfeed//EN
CALSCALE:GREGORIAN
METHOD:PUBLISH
X-WR-TIMEZONE:UTC
BEGIN:VEVENT
SUMMARY:Remembrance Sunday service
DTSTART:20251109T084500Z
DTEND:20251109T094500Z
DTSTAMP:20260424T044453Z
UID:12377822025-11-09 08:45:00+00:00achurchnearyou
CATEGORIES:
DESCRIPTION:All welcome at this annual service where we give thanks for an
 d pray for those who served their country.  There will be a retiring colle
 ction for the Royal British Legion.
GEO:-0.039167;51.73449
LOCATION:St Laurence Church\, Wormley
URL:http://www.stlaurencewormley.org.uk
END:VEVENT
END:VCALENDAR
