BEGIN:VCALENDAR
VERSION:2.0
PRODID:-//achurchnearyou.com//eventfeed//EN
CALSCALE:GREGORIAN
METHOD:PUBLISH
X-WR-TIMEZONE:UTC
BEGIN:VEVENT
SUMMARY:Christmas Day Holy Communion
DTSTART:20251225T090000Z
DTEND:20251225T100000Z
DTSTAMP:20260424T031247Z
UID:12588042025-12-25 09:00:00+00:00achurchnearyou
CATEGORIES:
DESCRIPTION:A traditional communion service for Christmas morning.  All we
 lcome.
GEO:-0.039167;51.73449
LOCATION:St Laurence Church\, Wormley
URL:http://wwwstlaurencewormley.org.uk
END:VEVENT
END:VCALENDAR
