BEGIN:VCALENDAR
VERSION:2.0
PRODID:-//achurchnearyou.com//eventfeed//EN
CALSCALE:GREGORIAN
METHOD:PUBLISH
X-WR-TIMEZONE:UTC
BEGIN:VEVENT
SUMMARY:Ash Wednesday Holy Communion
DTSTART:20260218T193000Z
DTEND:20260218T203000Z
DTSTAMP:20260423T164519Z
UID:12934872026-02-18 19:30:00+00:00achurchnearyou
CATEGORIES:
DESCRIPTION:A traditional service of Holy Communion and placing of ashes t
 o mark the start of Lent.  All welcome.
GEO:-0.039167;51.73449
LOCATION:St Laurence Church\, Wormley
URL:http://www.stlaurencewormley.org.uk
END:VEVENT
END:VCALENDAR
