BEGIN:VCALENDAR
VERSION:2.0
PRODID:-//achurchnearyou.com//eventfeed//EN
CALSCALE:GREGORIAN
METHOD:PUBLISH
X-WR-TIMEZONE:UTC
BEGIN:VEVENT
SUMMARY:All Souls Memorial Service
DTSTART:20251102T150000Z
DTEND:20251102T154500Z
DTSTAMP:20260420T210050Z
UID:11014362025-11-02 15:00:00+00:00achurchnearyou
CATEGORIES:
DESCRIPTION:A simple service of hymns\, prayers and readings with an oppor
 tunity to light a candle in memory of a loved one. Refreshments will be se
 rved afterwards.\n\nIf you would like to have a name read out during the s
 ervice\, please add it to the list at the back of church or email Rev'd Ch
 ristie: vicar@stgiles-church.org.uk
GEO:-0.23293;51.853564
LOCATION:St Giles Church Codicote
URL:https://www.achurchnearyou.com/church/7865/service-and-events/events/1
 101436/
END:VEVENT
END:VCALENDAR
