BEGIN:VCALENDAR
VERSION:2.0
PRODID:-//achurchnearyou.com//eventfeed//EN
CALSCALE:GREGORIAN
METHOD:PUBLISH
X-WR-TIMEZONE:UTC
BEGIN:VEVENT
SUMMARY:Christingle Service
DTSTART:20251214T160000Z
DTEND:20251214T170000Z
DTSTAMP:20260420T190711Z
UID:9885212025-12-14 16:00:00+00:00achurchnearyou
CATEGORIES:
DESCRIPTION:Come along to St Giles Church at 4pm for our Christingle Servi
 ce.\n\nDonations at this service will go towards the work of The Children'
 s Society.
GEO:-0.23293;51.853564
LOCATION:St Giles Church Codicote
URL:https://www.achurchnearyou.com/church/7865/service-and-events/events/9
 88521/
END:VEVENT
END:VCALENDAR
