BEGIN:VCALENDAR
VERSION:2.0
PRODID:-//achurchnearyou.com//eventfeed//EN
CALSCALE:GREGORIAN
METHOD:PUBLISH
X-WR-TIMEZONE:UTC
BEGIN:VEVENT
SUMMARY:Good Friday
DTSTART:20260403T093000Z
DTEND:20260403T103000Z
DTSTAMP:20260424T030025Z
UID:13164962026-04-03 09:30:00+00:00achurchnearyou
CATEGORIES:
DESCRIPTION:A service of readings and music in church\nSeparate activities
  for children in centre\nFollowed by hot cross buns
GEO:-0.267752;51.740781
LOCATION:St Mark
URL:https://www.achurchnearyou.com/church/7866/service-and-events/events/1
 316496/
END:VEVENT
END:VCALENDAR
