BEGIN:VCALENDAR
VERSION:2.0
PRODID:-//achurchnearyou.com//eventfeed//EN
CALSCALE:GREGORIAN
METHOD:PUBLISH
X-WR-TIMEZONE:UTC
BEGIN:VEVENT
SUMMARY:All Together Harvest Holy Communion & Bring and Share lunch
DTSTART:20251005T100000Z
DTEND:20251005T110000Z
DTSTAMP:20260421T121436Z
UID:12274302025-10-05 10:00:00+00:00achurchnearyou
CATEGORIES:
DESCRIPTION:We’d love you to join us on Sunday 5th October at 11am for o
 ur All-Together Harvest Festival with Communion\, followed by our Bring an
 d Share Harvest Lunch with activities for children.\nThis lively\, joyful 
 service is a wonderful chance for all ages to come together — giving tha
 nks for the gifts of creation\, and for all that we can share with others.
 \nWe’ll be collecting for our local foodbank and the Bishop’s Harvest 
 Appeal\, so if you’re able\, please bring along tins or packets to donat
 e\, and any spare change to support these good causes.  If you're able to 
 bring some food to share in the lunch\, drop us a message or sign up on th
 e list in church.  \nA warm welcome awaits for everyone — come and celeb
 rate the season with us!
GEO:-0.235611;51.793451
LOCATION:St John's Church\, Lemsford
URL:https://www.achurchnearyou.com/church/7875/service-and-events/events/1
 227430/
END:VEVENT
END:VCALENDAR
