BEGIN:VCALENDAR
VERSION:2.0
PRODID:-//achurchnearyou.com//eventfeed//EN
CALSCALE:GREGORIAN
METHOD:PUBLISH
X-WR-TIMEZONE:UTC
BEGIN:VEVENT
SUMMARY:Crib Service
DTSTART:20251224T153000Z
DTEND:20251224T161500Z
DTSTAMP:20260426T013754Z
UID:5274762025-12-24 15:30:00+00:00achurchnearyou
CATEGORIES:
DESCRIPTION:Particularly suitable for families and children.  The nativity
  characters are placed in the crib by willing volunteers from the congrega
 tion.  Come in good time to get a seat as this service is always very popu
 lar!  A collection will be taken for the charity Crisis at Christmas.
GEO:-0.214975;51.831543
LOCATION:St Mary's Welwyn
URL:http://www.welwyn.org.uk
END:VEVENT
END:VCALENDAR
