BEGIN:VCALENDAR
VERSION:2.0
PRODID:-//achurchnearyou.com//eventfeed//EN
CALSCALE:GREGORIAN
METHOD:PUBLISH
X-WR-TIMEZONE:UTC
BEGIN:VEVENT
SUMMARY:Silent Prayer
DTSTART:20260403T110000Z
DTEND:20260403T130000Z
DTSTAMP:20260423T101505Z
UID:980652026-04-03 11:00:00+00:00achurchnearyou
CATEGORIES:
DESCRIPTION:A time of quiet meditation before the cross.
GEO:-0.081061;51.805323
LOCATION:Holy Trinity
URL:https://www.parishofbengeo.com/service-times/
END:VEVENT
END:VCALENDAR
